BEGIN:VCALENDAR
VERSION:2.0
PRODID:-//Red Star Studios - ECPv6.15.20//NONSGML v1.0//EN
CALSCALE:GREGORIAN
METHOD:PUBLISH
X-WR-CALNAME:Red Star Studios
X-ORIGINAL-URL:https://redstar.audio
X-WR-CALDESC:Eventos para Red Star Studios
REFRESH-INTERVAL;VALUE=DURATION:PT1H
X-Robots-Tag:noindex
X-PUBLISHED-TTL:PT1H
BEGIN:VTIMEZONE
TZID:America/Sao_Paulo
BEGIN:STANDARD
TZOFFSETFROM:-0300
TZOFFSETTO:-0300
TZNAME:-03
DTSTART:20250101T000000
END:STANDARD
END:VTIMEZONE
BEGIN:VEVENT
DTSTART;TZID=America/Sao_Paulo:20260425T173000
DTEND;TZID=America/Sao_Paulo:20260425T233000
DTSTAMP:20260421T065901
CREATED:20260416T144220Z
LAST-MODIFIED:20260416T144220Z
UID:10613-1777138200-1777159800@redstar.audio
SUMMARY:Rock and Beer Experience
DESCRIPTION:
URL:https://redstar.audio/evento/rock-and-beer-experience/
LOCATION:Red Star Studios\, Rua Teodoro Sampaio 512\, São Paulo\, São Paulo\, 05406-000\, Brasil
CATEGORIES:RedStar
ATTACH;FMTTYPE=image/jpeg:https://redstar.audio/wp-content/uploads/2026/04/1-2.jpg
END:VEVENT
BEGIN:VEVENT
DTSTART;TZID=America/Sao_Paulo:20260430T190000
DTEND;TZID=America/Sao_Paulo:20260430T233000
DTSTAMP:20260421T065901
CREATED:20260420T142843Z
LAST-MODIFIED:20260420T142843Z
UID:10619-1777575600-1777591800@redstar.audio
SUMMARY:Blackout com Fernando Rosa - II
DESCRIPTION:
URL:https://redstar.audio/evento/blackout-com-fernando-rosa-ii/
LOCATION:Red Star Studios\, Rua Teodoro Sampaio 512\, São Paulo\, São Paulo\, 05406-000\, Brasil
CATEGORIES:RedStar
ATTACH;FMTTYPE=image/jpeg:https://redstar.audio/wp-content/uploads/2026/04/1-3.jpg
END:VEVENT
BEGIN:VEVENT
DTSTART;TZID=America/Sao_Paulo:20260508T203000
DTEND;TZID=America/Sao_Paulo:20260508T233000
DTSTAMP:20260421T065901
CREATED:20260402T141543Z
LAST-MODIFIED:20260402T141543Z
UID:10356-1778272200-1778283000@redstar.audio
SUMMARY:Varsóvia - Show único em 2026
DESCRIPTION:
URL:https://redstar.audio/evento/varsovia-show-unico-em-2026/
LOCATION:Red Star Studios\, Rua Teodoro Sampaio 512\, São Paulo\, São Paulo\, 05406-000\, Brasil
CATEGORIES:RedStar
ATTACH;FMTTYPE=image/jpeg:https://redstar.audio/wp-content/uploads/2026/04/1.jpg
END:VEVENT
BEGIN:VEVENT
DTSTART;TZID=America/Sao_Paulo:20260515T190000
DTEND;TZID=America/Sao_Paulo:20260515T233000
DTSTAMP:20260421T065901
CREATED:20260302T190807Z
LAST-MODIFIED:20260302T190807Z
UID:10281-1778871600-1778887800@redstar.audio
SUMMARY:New Metal Lives SP
DESCRIPTION:
URL:https://redstar.audio/evento/new-metal-lives-sp/
LOCATION:Red Star Studios\, Rua Teodoro Sampaio 462\, São Paulo\, SP\, 05406-000\, Brasil
CATEGORIES:RedStar
ATTACH;FMTTYPE=image/jpeg:https://redstar.audio/wp-content/uploads/2026/03/1.jpg
END:VEVENT
BEGIN:VEVENT
DTSTART;TZID=America/Sao_Paulo:20260516T200000
DTEND;TZID=America/Sao_Paulo:20260516T230000
DTSTAMP:20260421T065901
CREATED:20260330T203832Z
LAST-MODIFIED:20260330T203832Z
UID:10344-1778961600-1778972400@redstar.audio
SUMMARY:Mouwa
DESCRIPTION:
URL:https://redstar.audio/evento/mouwa/
LOCATION:Red Star Studios\, Rua Teodoro Sampaio 512\, São Paulo\, São Paulo\, 05406-000\, Brasil
CATEGORIES:RedStar
ATTACH;FMTTYPE=image/jpeg:https://redstar.audio/wp-content/uploads/2026/03/1-14.jpg
END:VEVENT
BEGIN:VEVENT
DTSTART;TZID=America/Sao_Paulo:20260529T200000
DTEND;TZID=America/Sao_Paulo:20260529T233000
DTSTAMP:20260421T065901
CREATED:20260226T123540Z
LAST-MODIFIED:20260226T123540Z
UID:10276-1780084800-1780097400@redstar.audio
SUMMARY:Vísceras Extraordinárias - Show de Estreia
DESCRIPTION:
URL:https://redstar.audio/evento/visceras-extraordinarias-show-de-estreia/
LOCATION:Red Star Studios\, Rua Teodoro Sampaio 512\, São Paulo\, São Paulo\, 05406-000\, Brasil
CATEGORIES:RedStar
ATTACH;FMTTYPE=image/jpeg:https://redstar.audio/wp-content/uploads/2026/02/1-5.jpg
END:VEVENT
BEGIN:VEVENT
DTSTART;TZID=America/Sao_Paulo:20260530T180000
DTEND;TZID=America/Sao_Paulo:20260530T230000
DTSTAMP:20260421T065901
CREATED:20260404T033155Z
LAST-MODIFIED:20260404T033155Z
UID:10601-1780164000-1780182000@redstar.audio
SUMMARY:Sunset Collectors
DESCRIPTION:
URL:https://redstar.audio/evento/sunset-collectors/
LOCATION:Red Star Studios\, Rua Teodoro Sampaio 512\, São Paulo\, São Paulo\, 05406-000\, Brasil
CATEGORIES:RedStar
ATTACH;FMTTYPE=image/jpeg:https://redstar.audio/wp-content/uploads/2026/04/1-1.jpg
END:VEVENT
BEGIN:VEVENT
DTSTART;TZID=America/Sao_Paulo:20260704T210000
DTEND;TZID=America/Sao_Paulo:20260704T233000
DTSTAMP:20260421T065901
CREATED:20260313T145538Z
LAST-MODIFIED:20260401T194815Z
UID:10307-1783198800-1783207800@redstar.audio
SUMMARY:The Prisoners
DESCRIPTION:
URL:https://redstar.audio/evento/the-prisoners/
LOCATION:Red Star Studios\, Rua Teodoro Sampaio 512\, São Paulo\, São Paulo\, 05406-000\, Brasil
CATEGORIES:RedStar
ATTACH;FMTTYPE=image/jpeg:https://redstar.audio/wp-content/uploads/2026/03/1-6.jpg
END:VEVENT
END:VCALENDAR