BEGIN:VCALENDAR
VERSION:2.0
PRODID:-//Red Star Studios - ECPv6.15.20//NONSGML v1.0//EN
CALSCALE:GREGORIAN
METHOD:PUBLISH
X-ORIGINAL-URL:https://redstar.audio
X-WR-CALDESC:Eventos para Red Star Studios
REFRESH-INTERVAL;VALUE=DURATION:PT1H
X-Robots-Tag:noindex
X-PUBLISHED-TTL:PT1H
BEGIN:VTIMEZONE
TZID:America/Sao_Paulo
BEGIN:STANDARD
TZOFFSETFROM:-0300
TZOFFSETTO:-0300
TZNAME:-03
DTSTART:20240101T000000
END:STANDARD
END:VTIMEZONE
BEGIN:VEVENT
DTSTART;TZID=America/Sao_Paulo:20250621T190000
DTEND;TZID=America/Sao_Paulo:20250621T230000
DTSTAMP:20260425T072146
CREATED:20250212T150750Z
LAST-MODIFIED:20250313T141636Z
UID:6261-1750532400-1750546800@redstar.audio
SUMMARY:Red Star Sessions - Torture Squad
DESCRIPTION:
URL:https://redstar.audio/evento/red-star-sessions-torture-squad/
LOCATION:Red Star Studios\, Rua Teodoro Sampaio 512\, São Paulo\, São Paulo\, 05406-000\, Brasil
CATEGORIES:RedStar
ATTACH;FMTTYPE=image/jpeg:https://redstar.audio/wp-content/uploads/2025/02/Feed-Torture-Squad-RSS-3.jpg
END:VEVENT
BEGIN:VEVENT
DTSTART;TZID=America/Sao_Paulo:20250619T190000
DTEND;TZID=America/Sao_Paulo:20250619T230000
DTSTAMP:20260425T072146
CREATED:20250505T145448Z
LAST-MODIFIED:20250606T144412Z
UID:6601-1750359600-1750374000@redstar.audio
SUMMARY:RUÍDO METÁLICO SUL-AMERICANO
DESCRIPTION:
URL:https://redstar.audio/evento/ruido-metalico-sul-americano/
LOCATION:Red Star Studios\, Rua Teodoro Sampaio 512\, São Paulo\, São Paulo\, 05406-000\, Brasil
CATEGORIES:RedStar
ATTACH;FMTTYPE=image/jpeg:https://redstar.audio/wp-content/uploads/2025/05/1.jpg
END:VEVENT
BEGIN:VEVENT
DTSTART;TZID=America/Sao_Paulo:20250615T160000
DTEND;TZID=America/Sao_Paulo:20250615T220000
DTSTAMP:20260425T072146
CREATED:20250604T133454Z
LAST-MODIFIED:20250604T133454Z
UID:8667-1750003200-1750024800@redstar.audio
SUMMARY:Pocket Show Prof Cesinha
DESCRIPTION:
URL:https://redstar.audio/evento/pocket-show-prof-cesinha/
LOCATION:Red Star Studios\, Rua Teodoro Sampaio 512\, São Paulo\, São Paulo\, 05406-000\, Brasil
CATEGORIES:RedStar
ATTACH;FMTTYPE=image/jpeg:https://redstar.audio/wp-content/uploads/2025/06/1.jpeg
END:VEVENT
BEGIN:VEVENT
DTSTART;TZID=America/Sao_Paulo:20250614T193000
DTEND;TZID=America/Sao_Paulo:20250614T230000
DTSTAMP:20260425T072146
CREATED:20250205T184738Z
LAST-MODIFIED:20250205T185144Z
UID:6026-1749929400-1749942000@redstar.audio
SUMMARY:Guerreiros do Metal - Azul Limão\, Sacrifix & Armadilha
DESCRIPTION:
URL:https://redstar.audio/evento/guerreiros-do-metal-azul-limao-sacrifix-armadilha/
LOCATION:Red Star Studios\, Rua Teodoro Sampaio 512\, São Paulo\, São Paulo\, 05406-000\, Brasil
CATEGORIES:RedStar
ATTACH;FMTTYPE=image/jpeg:https://redstar.audio/wp-content/uploads/2025/02/1-1.jpg
END:VEVENT
BEGIN:VEVENT
DTSTART;TZID=America/Sao_Paulo:20250613T200000
DTEND;TZID=America/Sao_Paulo:20250613T230000
DTSTAMP:20260425T072146
CREATED:20250311T122713Z
LAST-MODIFIED:20250401T231430Z
UID:6301-1749844800-1749855600@redstar.audio
SUMMARY:Obscene Extreme Festival - Brasil
DESCRIPTION:
URL:https://redstar.audio/evento/obscene-extreme-festival-brasil/
LOCATION:Red Star Studios\, Rua Teodoro Sampaio 512\, São Paulo\, São Paulo\, 05406-000\, Brasil
CATEGORIES:RedStar
ATTACH;FMTTYPE=image/jpeg:https://redstar.audio/wp-content/uploads/2025/03/Feed-13-6-25_A.jpg
END:VEVENT
BEGIN:VEVENT
DTSTART;TZID=America/Sao_Paulo:20250606T180000
DTEND;TZID=America/Sao_Paulo:20250606T230000
DTSTAMP:20260425T072146
CREATED:20250327T193442Z
LAST-MODIFIED:20250606T144506Z
UID:6334-1749232800-1749250800@redstar.audio
SUMMARY:Palpebrite Fest 2025
DESCRIPTION:
URL:https://redstar.audio/evento/palpebrite-fest-2025/
LOCATION:Red Star Studios\, Rua Teodoro Sampaio 512\, São Paulo\, São Paulo\, 05406-000\, Brasil
CATEGORIES:RedStar
ATTACH;FMTTYPE=image/jpeg:https://redstar.audio/wp-content/uploads/2025/03/palpebritefest.jpg
END:VEVENT
BEGIN:VEVENT
DTSTART;TZID=America/Sao_Paulo:20250531T180000
DTEND;TZID=America/Sao_Paulo:20250531T230000
DTSTAMP:20260425T072146
CREATED:20250522T200923Z
LAST-MODIFIED:20250522T200923Z
UID:8548-1748714400-1748732400@redstar.audio
SUMMARY:Pocket Show - Sleep Walkers
DESCRIPTION:
URL:https://redstar.audio/evento/pocket-show-sleep-walkers/
LOCATION:Red Star Studios\, Rua Teodoro Sampaio 462\, São Paulo\, SP\, 05406-000\, Brasil
CATEGORIES:RedStar
ATTACH;FMTTYPE=image/jpeg:https://redstar.audio/wp-content/uploads/2025/05/1-2.jpg
END:VEVENT
BEGIN:VEVENT
DTSTART;TZID=America/Sao_Paulo:20250529T190000
DTEND;TZID=America/Sao_Paulo:20250529T230000
DTSTAMP:20260425T072146
CREATED:20250124T130054Z
LAST-MODIFIED:20250124T130219Z
UID:5935-1748545200-1748559600@redstar.audio
SUMMARY:Evadne & HellLight em São Paulo
DESCRIPTION:
URL:https://redstar.audio/evento/evadne-helllight-em-sao-paulo/
LOCATION:Red Star Studios\, Rua Teodoro Sampaio 512\, São Paulo\, São Paulo\, 05406-000\, Brasil
CATEGORIES:RedStar
ATTACH;FMTTYPE=image/jpeg:https://redstar.audio/wp-content/uploads/2025/01/1-7.jpg
END:VEVENT
BEGIN:VEVENT
DTSTART;TZID=America/Sao_Paulo:20250524T193000
DTEND;TZID=America/Sao_Paulo:20250524T230000
DTSTAMP:20260425T072146
CREATED:20250513T121930Z
LAST-MODIFIED:20250513T173014Z
UID:8125-1748115000-1748127600@redstar.audio
SUMMARY:Devotos De Nossa Senhora Aparecida
DESCRIPTION:
URL:https://redstar.audio/evento/devotos-de-nossa-senhora-aparecida/
LOCATION:Red Star Studios\, Rua Teodoro Sampaio 462\, São Paulo\, SP\, 05406-000\, Brasil
CATEGORIES:RedStar
ATTACH;FMTTYPE=image/jpeg:https://redstar.audio/wp-content/uploads/2025/05/Feed-DNSA-24-5-25.jpg
END:VEVENT
BEGIN:VEVENT
DTSTART;TZID=America/Sao_Paulo:20250524T150000
DTEND;TZID=America/Sao_Paulo:20250524T160000
DTSTAMP:20260425T072146
CREATED:20250522T200404Z
LAST-MODIFIED:20250522T200416Z
UID:8543-1748098800-1748102400@redstar.audio
SUMMARY:Workshop com Michael Manring
DESCRIPTION:
URL:https://redstar.audio/evento/workshop-com-michael-manring/
LOCATION:Red Star Studios\, Rua Teodoro Sampaio 512\, São Paulo\, São Paulo\, 05406-000\, Brasil
CATEGORIES:RedStar
ATTACH;FMTTYPE=image/jpeg:https://redstar.audio/wp-content/uploads/2025/05/Bass.jpg
END:VEVENT
BEGIN:VEVENT
DTSTART;TZID=America/Sao_Paulo:20250523T190000
DTEND;TZID=America/Sao_Paulo:20250523T230000
DTSTAMP:20260425T072146
CREATED:20250409T005607Z
LAST-MODIFIED:20250409T005607Z
UID:6404-1748026800-1748041200@redstar.audio
SUMMARY:Os Insociáveis - Show de Lançamento do Álbum “Estranhas Sensações de Vida”
DESCRIPTION:
URL:https://redstar.audio/evento/os-insociaveis-show-de-lancamento-do-album-estranhas-sensacoes-de-vida/
LOCATION:Red Star Studios\, Rua Teodoro Sampaio 512\, São Paulo\, São Paulo\, 05406-000\, Brasil
CATEGORIES:RedStar
ATTACH;FMTTYPE=image/jpeg:https://redstar.audio/wp-content/uploads/2025/04/Feed-Gig-23-5-25.jpg
END:VEVENT
BEGIN:VEVENT
DTSTART;TZID=America/Sao_Paulo:20250517T190000
DTEND;TZID=America/Sao_Paulo:20250517T230000
DTSTAMP:20260425T072146
CREATED:20250515T125926Z
LAST-MODIFIED:20250515T125926Z
UID:8142-1747508400-1747522800@redstar.audio
SUMMARY:Midnight Sound Club
DESCRIPTION:
URL:https://redstar.audio/evento/midnight-sound-club/
LOCATION:Red Star Studios\, Rua Teodoro Sampaio 512\, São Paulo\, São Paulo\, 05406-000\, Brasil
CATEGORIES:RedStar
ATTACH;FMTTYPE=image/jpeg:https://redstar.audio/wp-content/uploads/2025/05/1-1.jpg
END:VEVENT
BEGIN:VEVENT
DTSTART;TZID=America/Sao_Paulo:20250510T180000
DTEND;TZID=America/Sao_Paulo:20250510T230000
DTSTAMP:20260425T072146
CREATED:20250313T125413Z
LAST-MODIFIED:20250313T144213Z
UID:6307-1746900000-1746918000@redstar.audio
SUMMARY:Todo Mundo É Legal Fest
DESCRIPTION:
URL:https://redstar.audio/evento/todo-mundo-e-legal-fest/
LOCATION:Red Star Studios\, Rua Teodoro Sampaio 512\, São Paulo\, São Paulo\, 05406-000\, Brasil
CATEGORIES:RedStar
ATTACH;FMTTYPE=image/jpeg:https://redstar.audio/wp-content/uploads/2025/03/1.jpg
END:VEVENT
BEGIN:VEVENT
DTSTART;TZID=America/Sao_Paulo:20250509T190000
DTEND;TZID=America/Sao_Paulo:20250509T230000
DTSTAMP:20260425T072146
CREATED:20250402T232939Z
LAST-MODIFIED:20250402T232939Z
UID:6358-1746817200-1746831600@redstar.audio
SUMMARY:Homenagem à Rita Lee - Babilônia tributo
DESCRIPTION:
URL:https://redstar.audio/evento/homenagem-a-rita-lee-babilonia-tributo/
LOCATION:Red Star Studios\, Rua Teodoro Sampaio 512\, São Paulo\, São Paulo\, 05406-000\, Brasil
CATEGORIES:RedStar
ATTACH;FMTTYPE=image/jpeg:https://redstar.audio/wp-content/uploads/2025/04/1.jpg
END:VEVENT
BEGIN:VEVENT
DTSTART;TZID=America/Sao_Paulo:20250503T190000
DTEND;TZID=America/Sao_Paulo:20250503T230000
DTSTAMP:20260425T072146
CREATED:20250423T121445Z
LAST-MODIFIED:20250423T202521Z
UID:6555-1746298800-1746313200@redstar.audio
SUMMARY:Heavy Pero No Mucho 8 anos Tour - Edição SPHC Bermuda
DESCRIPTION:
URL:https://redstar.audio/evento/heavy-pero-no-mucho-8-anos-tour-edicao-sphc-bermuda/
LOCATION:Red Star Studios\, Rua Teodoro Sampaio 512\, São Paulo\, São Paulo\, 05406-000\, Brasil
CATEGORIES:RedStar
ATTACH;FMTTYPE=image/jpeg:https://redstar.audio/wp-content/uploads/2025/04/1-5.jpg
END:VEVENT
BEGIN:VEVENT
DTSTART;TZID=America/Sao_Paulo:20250501T190000
DTEND;TZID=America/Sao_Paulo:20250501T230000
DTSTAMP:20260425T072146
CREATED:20250409T005026Z
LAST-MODIFIED:20250410T191401Z
UID:6395-1746126000-1746140400@redstar.audio
SUMMARY:Punk Rock Tributo em 1º de Maio
DESCRIPTION:
URL:https://redstar.audio/evento/punk-rock-tributo-em-1o-de-maio/
LOCATION:Red Star Studios\, Rua Teodoro Sampaio 512\, São Paulo\, São Paulo\, 05406-000\, Brasil
CATEGORIES:RedStar
ATTACH;FMTTYPE=image/jpeg:https://redstar.audio/wp-content/uploads/2025/04/Feed-Gig-1-5-25-1.jpg
END:VEVENT
BEGIN:VEVENT
DTSTART;TZID=America/Sao_Paulo:20250427T140000
DTEND;TZID=America/Sao_Paulo:20250427T220000
DTSTAMP:20260425T072146
CREATED:20250330T000412Z
LAST-MODIFIED:20250330T000806Z
UID:6338-1745762400-1745791200@redstar.audio
SUMMARY:Ska na Paskoa
DESCRIPTION:
URL:https://redstar.audio/evento/ska-na-paskoa/
LOCATION:Red Star Studios\, Rua Teodoro Sampaio 512\, São Paulo\, São Paulo\, 05406-000\, Brasil
CATEGORIES:RedStar
ATTACH;FMTTYPE=image/jpeg:https://redstar.audio/wp-content/uploads/2025/03/1-1.jpg
END:VEVENT
BEGIN:VEVENT
DTSTART;TZID=America/Sao_Paulo:20250426T193000
DTEND;TZID=America/Sao_Paulo:20250426T230000
DTSTAMP:20260425T072146
CREATED:20250403T132910Z
LAST-MODIFIED:20250403T132959Z
UID:6366-1745695800-1745708400@redstar.audio
SUMMARY:Judas o Outro & SOTS
DESCRIPTION:
URL:https://redstar.audio/evento/judas-o-outro-sots/
LOCATION:Red Star Studios\, Rua Teodoro Sampaio 512\, São Paulo\, São Paulo\, 05406-000\, Brasil
CATEGORIES:RedStar
ATTACH;FMTTYPE=image/jpeg:https://redstar.audio/wp-content/uploads/2025/04/1-1.jpg
END:VEVENT
BEGIN:VEVENT
DTSTART;TZID=America/Sao_Paulo:20250417T190000
DTEND;TZID=America/Sao_Paulo:20250417T230000
DTSTAMP:20260425T072146
CREATED:20250405T200344Z
LAST-MODIFIED:20250405T200445Z
UID:6373-1744916400-1744930800@redstar.audio
SUMMARY:As Mercenárias & Delinquentes
DESCRIPTION:
URL:https://redstar.audio/evento/as-mercenarias-delinquentes/
LOCATION:Red Star Studios\, Rua Teodoro Sampaio 512\, São Paulo\, São Paulo\, 05406-000\, Brasil
CATEGORIES:RedStar
ATTACH;FMTTYPE=image/jpeg:https://redstar.audio/wp-content/uploads/2025/04/1-2.jpg
END:VEVENT
BEGIN:VEVENT
DTSTART;TZID=America/Sao_Paulo:20250413T180000
DTEND;TZID=America/Sao_Paulo:20250413T230000
DTSTAMP:20260425T072146
CREATED:20250408T160702Z
LAST-MODIFIED:20250408T160702Z
UID:6382-1744567200-1744585200@redstar.audio
SUMMARY:Dartagnan Não Mora Mais Aqui\, Glote\, Drogma & Sagrados Anônimos
DESCRIPTION:
URL:https://redstar.audio/evento/dartagnan-nao-mora-mais-aqui-glote-drogma-sagrados-anonimos/
LOCATION:Red Star Studios\, Rua Teodoro Sampaio 462\, São Paulo\, SP\, 05406-000\, Brasil
CATEGORIES:RedStar
ATTACH;FMTTYPE=image/jpeg:https://redstar.audio/wp-content/uploads/2025/04/1-3.jpg
END:VEVENT
BEGIN:VEVENT
DTSTART;TZID=America/Sao_Paulo:20250412T180000
DTEND;TZID=America/Sao_Paulo:20250412T230000
DTSTAMP:20260425T072146
CREATED:20250401T210742Z
LAST-MODIFIED:20250409T185125Z
UID:6349-1744480800-1744498800@redstar.audio
SUMMARY:Gig no Red Star - Caipirinha em Dobro!
DESCRIPTION:
URL:https://redstar.audio/evento/gig-no-bomber-caipirinha-em-dobro/
LOCATION:Red Star Studios\, Rua Teodoro Sampaio 512\, São Paulo\, São Paulo\, 05406-000\, Brasil
CATEGORIES:RedStar
ATTACH;FMTTYPE=image/jpeg:https://redstar.audio/wp-content/uploads/2025/04/1-1.jpeg
END:VEVENT
BEGIN:VEVENT
DTSTART;TZID=America/Sao_Paulo:20250412T140000
DTEND;TZID=America/Sao_Paulo:20250412T170000
DTSTAMP:20260425T072146
CREATED:20250403T132512Z
LAST-MODIFIED:20250403T132512Z
UID:6362-1744466400-1744477200@redstar.audio
SUMMARY:H I G A N - Debut Pocket Show
DESCRIPTION:
URL:https://redstar.audio/evento/h-i-g-a-n-debut-pocket-show/
LOCATION:Red Star Studios\, Rua Teodoro Sampaio 512\, São Paulo\, São Paulo\, 05406-000\, Brasil
CATEGORIES:RedStar
ATTACH;FMTTYPE=image/jpeg:https://redstar.audio/wp-content/uploads/2025/04/Hi.jpg
END:VEVENT
BEGIN:VEVENT
DTSTART;TZID=America/Sao_Paulo:20250405T193000
DTEND;TZID=America/Sao_Paulo:20250405T230000
DTSTAMP:20260425T072146
CREATED:20250116T123053Z
LAST-MODIFIED:20250116T123250Z
UID:5781-1743881400-1743894000@redstar.audio
SUMMARY:Dream Theater Classics
DESCRIPTION:
URL:https://redstar.audio/evento/dream-theater-classics/
LOCATION:Red Star Studios\, Rua Teodoro Sampaio 512\, São Paulo\, São Paulo\, 05406-000\, Brasil
CATEGORIES:RedStar
ATTACH;FMTTYPE=image/jpeg:https://redstar.audio/wp-content/uploads/2025/01/1-5.jpg
END:VEVENT
BEGIN:VEVENT
DTSTART;TZID=America/Sao_Paulo:20250404T193000
DTEND;TZID=America/Sao_Paulo:20250404T230000
DTSTAMP:20260425T072146
CREATED:20250320T122231Z
LAST-MODIFIED:20250320T122231Z
UID:6327-1743795000-1743807600@redstar.audio
SUMMARY:Agravo\, Sikamainen Ripuli & Ratas Rabiosas
DESCRIPTION:
URL:https://redstar.audio/evento/agravo-sikamainen-ripuli-ratas-rabiosas/
LOCATION:Red Star Studios\, Rua Teodoro Sampaio 462\, São Paulo\, SP\, 05406-000\, Brasil
CATEGORIES:RedStar
ATTACH;FMTTYPE=image/jpeg:https://redstar.audio/wp-content/uploads/2025/03/Feed-Gig-4-4-25_b.jpg
END:VEVENT
BEGIN:VEVENT
DTSTART;TZID=America/Sao_Paulo:20250328T190000
DTEND;TZID=America/Sao_Paulo:20250328T230000
DTSTAMP:20260425T072146
CREATED:20250212T144820Z
LAST-MODIFIED:20250212T150009Z
UID:6256-1743188400-1743202800@redstar.audio
SUMMARY:Red Star Sessions - Zabomba
DESCRIPTION:
URL:https://redstar.audio/evento/red-star-sessions-zabomba/
LOCATION:Red Star Studios\, Rua Teodoro Sampaio 512\, São Paulo\, São Paulo\, 05406-000\, Brasil
CATEGORIES:RedStar
ATTACH;FMTTYPE=image/jpeg:https://redstar.audio/wp-content/uploads/2025/02/Feed-Zabomba-RSS.jpg
END:VEVENT
BEGIN:VEVENT
DTSTART;TZID=America/Sao_Paulo:20250322T133000
DTEND;TZID=America/Sao_Paulo:20250322T153000
DTSTAMP:20260425T072146
CREATED:20250210T184340Z
LAST-MODIFIED:20250212T150114Z
UID:6135-1742650200-1742657400@redstar.audio
SUMMARY:SP! Oficina de Bateria para Garotas!
DESCRIPTION:
URL:https://redstar.audio/evento/sp-oficina-de-bateria-para-garotas/
LOCATION:Red Star Studios\, Rua Teodoro Sampaio 512\, São Paulo\, São Paulo\, 05406-000\, Brasil
CATEGORIES:RedStar
ATTACH;FMTTYPE=image/jpeg:https://redstar.audio/wp-content/uploads/2025/02/1-2.jpg
END:VEVENT
BEGIN:VEVENT
DTSTART;TZID=America/Sao_Paulo:20250320T200000
DTEND;TZID=America/Sao_Paulo:20250320T230000
DTSTAMP:20260425T072146
CREATED:20250224T182809Z
LAST-MODIFIED:20250224T182809Z
UID:6282-1742500800-1742511600@redstar.audio
SUMMARY:JARAKILLERS - São Paulo Tour 2025
DESCRIPTION:
URL:https://redstar.audio/evento/jarakillers-sao-paulo-tour-2025/
LOCATION:Red Star Studios\, Rua Teodoro Sampaio 512\, São Paulo\, São Paulo\, 05406-000\, Brasil
CATEGORIES:RedStar
ATTACH;FMTTYPE=image/jpeg:https://redstar.audio/wp-content/uploads/2025/02/1-4.jpg
END:VEVENT
BEGIN:VEVENT
DTSTART;TZID=America/Sao_Paulo:20250316T170000
DTEND;TZID=America/Sao_Paulo:20250316T220000
DTSTAMP:20260425T072146
CREATED:20250221T123112Z
LAST-MODIFIED:20250221T123112Z
UID:6277-1742144400-1742162400@redstar.audio
SUMMARY:LADO TREZE - Pré estreia do Álbum: Ideologia Em Tempos Loucos
DESCRIPTION:
URL:https://redstar.audio/evento/lado-treze-pre-estreia-do-album-ideologia-em-tempos-loucos/
LOCATION:Red Star Studios\, Rua Teodoro Sampaio 512\, São Paulo\, São Paulo\, 05406-000\, Brasil
CATEGORIES:RedStar
ATTACH;FMTTYPE=image/jpeg:https://redstar.audio/wp-content/uploads/2025/02/1-3.jpg
END:VEVENT
BEGIN:VEVENT
DTSTART;TZID=America/Sao_Paulo:20250315T210000
DTEND;TZID=America/Sao_Paulo:20250315T230000
DTSTAMP:20260425T072146
CREATED:20250203T113131Z
LAST-MODIFIED:20250313T142333Z
UID:6022-1742072400-1742079600@redstar.audio
SUMMARY:Mister Fleet - Fleetwood Mac Tributo Brasil
DESCRIPTION:
URL:https://redstar.audio/evento/mister-fleet-fleetwood-mac-tributo-brasil/
LOCATION:Red Star Studios\, Rua Teodoro Sampaio 512\, São Paulo\, São Paulo\, 05406-000\, Brasil
CATEGORIES:RedStar
ATTACH;FMTTYPE=image/jpeg:https://redstar.audio/wp-content/uploads/2025/02/1.jpg
END:VEVENT
BEGIN:VEVENT
DTSTART;TZID=America/Sao_Paulo:20250308T140000
DTEND;TZID=America/Sao_Paulo:20250308T230000
DTSTAMP:20260425T072146
CREATED:20250228T182142Z
LAST-MODIFIED:20250228T182142Z
UID:6292-1741442400-1741474800@redstar.audio
SUMMARY:ROCK PARA ELAS: Especial Dia Internacional Da Mulher
DESCRIPTION:
URL:https://redstar.audio/evento/rock-para-elas-especial-dia-internacional-da-mulher/
LOCATION:Red Star Studios\, Rua Teodoro Sampaio 512\, São Paulo\, São Paulo\, 05406-000\, Brasil
CATEGORIES:RedStar
ATTACH;FMTTYPE=image/jpeg:https://redstar.audio/wp-content/uploads/2025/02/1.jpeg
END:VEVENT
END:VCALENDAR