BEGIN:VCALENDAR
VERSION:2.0
PRODID:-//Red Star Studios - ECPv6.15.20//NONSGML v1.0//EN
CALSCALE:GREGORIAN
METHOD:PUBLISH
X-WR-CALNAME:Red Star Studios
X-ORIGINAL-URL:https://redstar.audio
X-WR-CALDESC:Eventos para Red Star Studios
REFRESH-INTERVAL;VALUE=DURATION:PT1H
X-Robots-Tag:noindex
X-PUBLISHED-TTL:PT1H
BEGIN:VTIMEZONE
TZID:America/Sao_Paulo
BEGIN:STANDARD
TZOFFSETFROM:-0300
TZOFFSETTO:-0300
TZNAME:-03
DTSTART:20240101T000000
END:STANDARD
END:VTIMEZONE
BEGIN:VEVENT
DTSTART;TZID=America/Sao_Paulo:20251211T200000
DTEND;TZID=America/Sao_Paulo:20251211T233000
DTSTAMP:20260423T090906
CREATED:20251104T162358Z
LAST-MODIFIED:20251104T162358Z
UID:9808-1765483200-1765495800@redstar.audio
SUMMARY:Violeta De Outono
DESCRIPTION:
URL:https://redstar.audio/evento/violeta-de-outono/
LOCATION:Red Star Studios\, Rua Teodoro Sampaio 512\, São Paulo\, São Paulo\, 05406-000\, Brasil
CATEGORIES:RedStar
ATTACH;FMTTYPE=image/jpeg:https://redstar.audio/wp-content/uploads/2025/11/1.jpg
END:VEVENT
BEGIN:VEVENT
DTSTART;TZID=America/Sao_Paulo:20251207T180000
DTEND;TZID=America/Sao_Paulo:20251207T233000
DTSTAMP:20260423T090906
CREATED:20251111T143306Z
LAST-MODIFIED:20251111T211133Z
UID:9826-1765130400-1765150200@redstar.audio
SUMMARY:Odio Social - 25 Anos
DESCRIPTION:
URL:https://redstar.audio/evento/odio-social-25-anos/
LOCATION:Red Star Studios\, Rua Teodoro Sampaio 512\, São Paulo\, São Paulo\, 05406-000\, Brasil
CATEGORIES:RedStar
ATTACH;FMTTYPE=image/jpeg:https://redstar.audio/wp-content/uploads/2025/11/1-3.jpg
END:VEVENT
BEGIN:VEVENT
DTSTART;TZID=America/Sao_Paulo:20251206T190000
DTEND;TZID=America/Sao_Paulo:20251206T233000
DTSTAMP:20260423T090906
CREATED:20250706T173423Z
LAST-MODIFIED:20251009T131442Z
UID:8781-1765047600-1765063800@redstar.audio
SUMMARY:Serenata Diabólica
DESCRIPTION:
URL:https://redstar.audio/evento/serenata-diabolica/
LOCATION:Red Star Studios\, Rua Teodoro Sampaio 512\, São Paulo\, São Paulo\, 05406-000\, Brasil
CATEGORIES:RedStar
ATTACH;FMTTYPE=image/jpeg:https://redstar.audio/wp-content/uploads/2025/07/1-2.jpg
END:VEVENT
BEGIN:VEVENT
DTSTART;TZID=America/Sao_Paulo:20251205T190000
DTEND;TZID=America/Sao_Paulo:20251205T233000
DTSTAMP:20260423T090906
CREATED:20251027T183726Z
LAST-MODIFIED:20251027T184819Z
UID:9744-1764961200-1764977400@redstar.audio
SUMMARY:Latina Shuffle - Show de estréia
DESCRIPTION:
URL:https://redstar.audio/evento/latina-shuffle-show-de-estreia/
LOCATION:Red Star Studios\, Rua Teodoro Sampaio 512\, São Paulo\, São Paulo\, 05406-000\, Brasil
CATEGORIES:RedStar
ATTACH;FMTTYPE=image/jpeg:https://redstar.audio/wp-content/uploads/2025/10/1-4.jpeg
END:VEVENT
BEGIN:VEVENT
DTSTART;TZID=America/Sao_Paulo:20251204T200000
DTEND;TZID=America/Sao_Paulo:20251204T233000
DTSTAMP:20260423T090906
CREATED:20250929T184754Z
LAST-MODIFIED:20250929T184754Z
UID:9604-1764878400-1764891000@redstar.audio
SUMMARY:OPEN YOUR MIND - Metal Festival
DESCRIPTION:
URL:https://redstar.audio/evento/open-your-mind-metal-festival/
LOCATION:Red Star Studios\, Rua Teodoro Sampaio 512\, São Paulo\, São Paulo\, 05406-000\, Brasil
CATEGORIES:RedStar
ATTACH;FMTTYPE=image/jpeg:https://redstar.audio/wp-content/uploads/2025/09/1-2.jpeg
END:VEVENT
BEGIN:VEVENT
DTSTART;TZID=America/Sao_Paulo:20251203T200000
DTEND;TZID=America/Sao_Paulo:20251203T233000
DTSTAMP:20260423T090906
CREATED:20251127T162114Z
LAST-MODIFIED:20251127T162147Z
UID:10069-1764792000-1764804600@redstar.audio
SUMMARY:Kryour & DVRK
DESCRIPTION:
URL:https://redstar.audio/evento/kryour-dvrk/
LOCATION:Red Star Studios\, Rua Teodoro Sampaio 512\, São Paulo\, São Paulo\, 05406-000\, Brasil
CATEGORIES:RedStar
ATTACH;FMTTYPE=image/jpeg:https://redstar.audio/wp-content/uploads/2025/11/DVRK.jpg
END:VEVENT
BEGIN:VEVENT
DTSTART;TZID=America/Sao_Paulo:20251130T080000
DTEND;TZID=America/Sao_Paulo:20251130T170000
DTSTAMP:20260423T090906
CREATED:20251009T173857Z
LAST-MODIFIED:20251009T173857Z
UID:9642-1764489600-1764522000@redstar.audio
SUMMARY:Charlotte Matou Um Cara\, Punho De Mahin & Superheat
DESCRIPTION:
URL:https://redstar.audio/evento/charlotte-matou-um-cara-punho-de-mahin-superheat/
LOCATION:Red Star Studios\, Rua Teodoro Sampaio 512\, São Paulo\, São Paulo\, 05406-000\, Brasil
CATEGORIES:RedStar
ATTACH;FMTTYPE=image/jpeg:https://redstar.audio/wp-content/uploads/2025/10/1-3.jpg
END:VEVENT
BEGIN:VEVENT
DTSTART;TZID=America/Sao_Paulo:20251129T133000
DTEND;TZID=America/Sao_Paulo:20251129T153000
DTSTAMP:20260423T090906
CREATED:20251006T211017Z
LAST-MODIFIED:20251006T211017Z
UID:9623-1764423000-1764430200@redstar.audio
SUMMARY:Hi Hat Girls: Oficina de Bateria para Garotas em SP!
DESCRIPTION:
URL:https://redstar.audio/evento/hi-hat-girls-oficina-de-bateria-para-garotas-em-sp/
LOCATION:Red Star Studios\, Rua Teodoro Sampaio 512\, São Paulo\, São Paulo\, 05406-000\, Brasil
CATEGORIES:RedStar
ATTACH;FMTTYPE=image/jpeg:https://redstar.audio/wp-content/uploads/2025/10/1-1.jpg
END:VEVENT
BEGIN:VEVENT
DTSTART;TZID=America/Sao_Paulo:20251128T200000
DTEND;TZID=America/Sao_Paulo:20251128T233000
DTSTAMP:20260423T090906
CREATED:20250904T123617Z
LAST-MODIFIED:20250904T123617Z
UID:9419-1764360000-1764372600@redstar.audio
SUMMARY:Aloha from Pinheiros - Rock and Roll ao vivo
DESCRIPTION:
URL:https://redstar.audio/evento/aloha-from-pinheiros-rock-and-roll-ao-vivo/
LOCATION:Red Star Studios\, Rua Teodoro Sampaio 512\, São Paulo\, São Paulo\, 05406-000\, Brasil
CATEGORIES:RedStar
ATTACH;FMTTYPE=image/jpeg:https://redstar.audio/wp-content/uploads/2025/09/1-2.jpg
END:VEVENT
BEGIN:VEVENT
DTSTART;TZID=America/Sao_Paulo:20251120T200000
DTEND;TZID=America/Sao_Paulo:20251120T233000
DTSTAMP:20260423T090906
CREATED:20251016T230634Z
LAST-MODIFIED:20251023T151645Z
UID:9663-1763668800-1763681400@redstar.audio
SUMMARY:Smack
DESCRIPTION:
URL:https://redstar.audio/evento/smack/
LOCATION:Red Star Studios\, Rua Teodoro Sampaio 512\, São Paulo\, São Paulo\, 05406-000\, Brasil
CATEGORIES:RedStar
ATTACH;FMTTYPE=image/jpeg:https://redstar.audio/wp-content/uploads/2025/10/1-5.jpg
END:VEVENT
BEGIN:VEVENT
DTSTART;TZID=America/Sao_Paulo:20251119T200000
DTEND;TZID=America/Sao_Paulo:20251119T233000
DTSTAMP:20260423T090906
CREATED:20251106T162340Z
LAST-MODIFIED:20251106T162614Z
UID:9815-1763582400-1763595000@redstar.audio
SUMMARY:Kelly Lua
DESCRIPTION:
URL:https://redstar.audio/evento/kelly-lua/
LOCATION:Red Star Studios\, Rua Teodoro Sampaio 512\, São Paulo\, São Paulo\, 05406-000\, Brasil
CATEGORIES:RedStar
ATTACH;FMTTYPE=image/jpeg:https://redstar.audio/wp-content/uploads/2025/11/1a.jpg
END:VEVENT
BEGIN:VEVENT
DTSTART;TZID=America/Sao_Paulo:20251114T190000
DTEND;TZID=America/Sao_Paulo:20251114T233000
DTSTAMP:20260423T090906
CREATED:20251022T220747Z
LAST-MODIFIED:20251110T132406Z
UID:9729-1763146800-1763163000@redstar.audio
SUMMARY:Drunkandstoned Festival
DESCRIPTION:
URL:https://redstar.audio/evento/drunkandstoned-festival/
LOCATION:Red Star Studios\, Rua Teodoro Sampaio 512\, São Paulo\, São Paulo\, 05406-000\, Brasil
CATEGORIES:RedStar
ATTACH;FMTTYPE=image/jpeg:https://redstar.audio/wp-content/uploads/2025/10/1a-1.jpg
END:VEVENT
BEGIN:VEVENT
DTSTART;TZID=America/Sao_Paulo:20251108T200000
DTEND;TZID=America/Sao_Paulo:20251108T233000
DTSTAMP:20260423T090906
CREATED:20251017T214439Z
LAST-MODIFIED:20251017T214439Z
UID:9677-1762632000-1762644600@redstar.audio
SUMMARY:The Brothers
DESCRIPTION:
URL:https://redstar.audio/evento/the-brothers/
LOCATION:Red Star Studios\, Rua Teodoro Sampaio 512\, São Paulo\, São Paulo\, 05406-000\, Brasil
CATEGORIES:RedStar
ATTACH;FMTTYPE=image/jpeg:https://redstar.audio/wp-content/uploads/2025/10/1-1.jpeg
END:VEVENT
BEGIN:VEVENT
DTSTART;TZID=America/Sao_Paulo:20251108T140000
DTEND;TZID=America/Sao_Paulo:20251108T230000
DTSTAMP:20260423T090906
CREATED:20251028T232638Z
LAST-MODIFIED:20251028T232638Z
UID:9751-1762610400-1762642800@redstar.audio
SUMMARY:Lucas Diaz Birthday
DESCRIPTION:
URL:https://redstar.audio/evento/lucas-diaz-birthday/
LOCATION:Red Star Studios\, Rua Teodoro Sampaio 512\, São Paulo\, São Paulo\, 05406-000\, Brasil
CATEGORIES:RedStar
ATTACH;FMTTYPE=image/jpeg:https://redstar.audio/wp-content/uploads/2025/10/1a.jpeg
END:VEVENT
BEGIN:VEVENT
DTSTART;TZID=America/Sao_Paulo:20251107T180000
DTEND;TZID=America/Sao_Paulo:20251107T233000
DTSTAMP:20260423T090906
CREATED:20250918T182947Z
LAST-MODIFIED:20250918T183128Z
UID:9581-1762538400-1762558200@redstar.audio
SUMMARY:WORM FEST 4.0
DESCRIPTION:
URL:https://redstar.audio/evento/worm-fest-4-0/
LOCATION:Red Star Studios\, Rua Teodoro Sampaio 512\, São Paulo\, São Paulo\, 05406-000\, Brasil
CATEGORIES:RedStar
ATTACH;FMTTYPE=image/jpeg:https://redstar.audio/wp-content/uploads/2025/09/1-4.jpg
END:VEVENT
BEGIN:VEVENT
DTSTART;TZID=America/Sao_Paulo:20251102T170000
DTEND;TZID=America/Sao_Paulo:20251102T220000
DTSTAMP:20260423T090906
CREATED:20251008T231738Z
LAST-MODIFIED:20251009T125139Z
UID:9635-1762102800-1762120800@redstar.audio
SUMMARY:Anthares\, Necromancia & Siegrid Ingrid
DESCRIPTION:
URL:https://redstar.audio/evento/antares-necromancia-siegrid-ingrid/
LOCATION:Red Star Studios\, Rua Teodoro Sampaio 512\, São Paulo\, São Paulo\, 05406-000\, Brasil
CATEGORIES:RedStar
ATTACH;FMTTYPE=image/jpeg:https://redstar.audio/wp-content/uploads/2025/10/1-2.jpg
END:VEVENT
BEGIN:VEVENT
DTSTART;TZID=America/Sao_Paulo:20251031T190000
DTEND;TZID=America/Sao_Paulo:20251031T233000
DTSTAMP:20260423T090906
CREATED:20250908T161314Z
LAST-MODIFIED:20250909T155823Z
UID:9485-1761937200-1761953400@redstar.audio
SUMMARY:Neuroot\, DZK & Filhos da Desordem
DESCRIPTION:
URL:https://redstar.audio/evento/neuroot-dzk-filhos-da-desordem/
LOCATION:Red Star Studios\, Rua Teodoro Sampaio 512\, São Paulo\, São Paulo\, 05406-000\, Brasil
CATEGORIES:RedStar
ATTACH;FMTTYPE=image/jpeg:https://redstar.audio/wp-content/uploads/2025/09/2.jpg
END:VEVENT
BEGIN:VEVENT
DTSTART;TZID=America/Sao_Paulo:20251024T190000
DTEND;TZID=America/Sao_Paulo:20251024T233000
DTSTAMP:20260423T090906
CREATED:20251003T113542Z
LAST-MODIFIED:20251003T113542Z
UID:9611-1761332400-1761348600@redstar.audio
SUMMARY:Uma Sexta de Rock
DESCRIPTION:
URL:https://redstar.audio/evento/uma-sexta-de-rock/
LOCATION:Red Star Studios\, Rua Teodoro Sampaio 512\, São Paulo\, São Paulo\, 05406-000\, Brasil
CATEGORIES:RedStar
ATTACH;FMTTYPE=image/jpeg:https://redstar.audio/wp-content/uploads/2025/10/1.jpg
END:VEVENT
BEGIN:VEVENT
DTSTART;TZID=America/Sao_Paulo:20251019T170000
DTEND;TZID=America/Sao_Paulo:20251019T220000
DTSTAMP:20260423T090906
CREATED:20250901T125717Z
LAST-MODIFIED:20250901T125717Z
UID:9374-1760893200-1760911200@redstar.audio
SUMMARY:FESTIVAL INSTIGA
DESCRIPTION:
URL:https://redstar.audio/evento/festival-instiga/
LOCATION:Red Star Studios\, Rua Teodoro Sampaio 512\, São Paulo\, São Paulo\, 05406-000\, Brasil
CATEGORIES:RedStar
ATTACH;FMTTYPE=image/jpeg:https://redstar.audio/wp-content/uploads/2025/09/1.jpg
END:VEVENT
BEGIN:VEVENT
DTSTART;TZID=America/Sao_Paulo:20251018T190000
DTEND;TZID=America/Sao_Paulo:20251018T230000
DTSTAMP:20260423T090906
CREATED:20250826T142956Z
LAST-MODIFIED:20251002T184320Z
UID:9334-1760814000-1760828400@redstar.audio
SUMMARY:The Bombers - Gravação do Disco Ao Vivo de 30 Anos
DESCRIPTION:
URL:https://redstar.audio/evento/the-bombers-gravacao-do-disco-ao-vivo-de-30-anos/
LOCATION:Red Star Studios\, Rua Teodoro Sampaio 512\, São Paulo\, São Paulo\, 05406-000\, Brasil
CATEGORIES:RedStar
ATTACH;FMTTYPE=image/jpeg:https://redstar.audio/wp-content/uploads/2025/08/1a.jpeg
END:VEVENT
BEGIN:VEVENT
DTSTART;TZID=America/Sao_Paulo:20251017T200000
DTEND;TZID=America/Sao_Paulo:20251017T233000
DTSTAMP:20260423T090906
CREATED:20251007T201547Z
LAST-MODIFIED:20251007T201547Z
UID:9631-1760731200-1760743800@redstar.audio
SUMMARY:A Quadrilha Party
DESCRIPTION:
URL:https://redstar.audio/evento/a-quadrilha-party/
LOCATION:Red Star Studios\, Rua Teodoro Sampaio 512\, São Paulo\, São Paulo\, 05406-000\, Brasil
CATEGORIES:RedStar
ATTACH;FMTTYPE=image/jpeg:https://redstar.audio/wp-content/uploads/2025/10/1.jpeg
END:VEVENT
BEGIN:VEVENT
DTSTART;TZID=America/Sao_Paulo:20251016T190000
DTEND;TZID=America/Sao_Paulo:20251016T233000
DTSTAMP:20260423T090906
CREATED:20250929T121149Z
LAST-MODIFIED:20251014T190155Z
UID:9601-1760641200-1760657400@redstar.audio
SUMMARY:Church Of Confidence & Red Lights Gang
DESCRIPTION:
URL:https://redstar.audio/evento/church-of-confidence-red-lights-gang/
LOCATION:Red Star Studios\, Rua Teodoro Sampaio 512\, São Paulo\, São Paulo\, 05406-000\, Brasil
CATEGORIES:RedStar
ATTACH;FMTTYPE=image/jpeg:https://redstar.audio/wp-content/uploads/2025/09/1-7.jpg
END:VEVENT
BEGIN:VEVENT
DTSTART;TZID=America/Sao_Paulo:20251012T160000
DTEND;TZID=America/Sao_Paulo:20251012T220000
DTSTAMP:20260423T090906
CREATED:20250919T004001Z
LAST-MODIFIED:20251002T184136Z
UID:9586-1760284800-1760306400@redstar.audio
SUMMARY:Sagrados Anônimos\, Kabeça Cheia & Calvin Voichicoski e Pelocurto
DESCRIPTION:
URL:https://redstar.audio/evento/sagrados-anonimos-echo-up-stairs-calvin-voichicoski-e-pelocurto/
LOCATION:Red Star Studios\, Rua Teodoro Sampaio 512\, São Paulo\, São Paulo\, 05406-000\, Brasil
CATEGORIES:RedStar
ATTACH;FMTTYPE=image/jpeg:https://redstar.audio/wp-content/uploads/2025/09/1a.jpeg
END:VEVENT
BEGIN:VEVENT
DTSTART;TZID=America/Sao_Paulo:20251011T200000
DTEND;TZID=America/Sao_Paulo:20251011T230000
DTSTAMP:20260423T090906
CREATED:20250918T182347Z
LAST-MODIFIED:20250918T182511Z
UID:9576-1760212800-1760223600@redstar.audio
SUMMARY:Jukebox Musical
DESCRIPTION:
URL:https://redstar.audio/evento/jukebox-musical/
LOCATION:Red Star Studios\, Rua Teodoro Sampaio 512\, São Paulo\, São Paulo\, 05406-000\, Brasil
CATEGORIES:RedStar
ATTACH;FMTTYPE=image/jpeg:https://redstar.audio/wp-content/uploads/2025/09/1-1.jpeg
END:VEVENT
BEGIN:VEVENT
DTSTART;TZID=America/Sao_Paulo:20251011T153000
DTEND;TZID=America/Sao_Paulo:20251011T190000
DTSTAMP:20260423T090906
CREATED:20251006T210157Z
LAST-MODIFIED:20251006T210340Z
UID:9618-1760196600-1760209200@redstar.audio
SUMMARY:Presidente Judas\, Lucyfuzz & Obsessor
DESCRIPTION:
URL:https://redstar.audio/evento/presidente-judas-lucyfuzz-obsessor/
LOCATION:Red Star Studios\, Rua Teodoro Sampaio 512\, São Paulo\, São Paulo\, 05406-000\, Brasil
CATEGORIES:RedStar
ATTACH;FMTTYPE=image/jpeg:https://redstar.audio/wp-content/uploads/2025/10/1a.jpg
END:VEVENT
BEGIN:VEVENT
DTSTART;TZID=America/Sao_Paulo:20251004T200000
DTEND;TZID=America/Sao_Paulo:20251004T233000
DTSTAMP:20260423T090906
CREATED:20250905T163114Z
LAST-MODIFIED:20250905T163114Z
UID:9481-1759608000-1759620600@redstar.audio
SUMMARY:Heavy Blood Festival
DESCRIPTION:
URL:https://redstar.audio/evento/heavy-blood-festival/
LOCATION:Red Star Studios\, Rua Teodoro Sampaio 512\, São Paulo\, São Paulo\, 05406-000\, Brasil
CATEGORIES:RedStar
ATTACH;FMTTYPE=image/jpeg:https://redstar.audio/wp-content/uploads/2025/09/1-3.jpg
END:VEVENT
BEGIN:VEVENT
DTSTART;TZID=America/Sao_Paulo:20250927T150000
DTEND;TZID=America/Sao_Paulo:20250927T180000
DTSTAMP:20260423T090906
CREATED:20250925T142409Z
LAST-MODIFIED:20250925T142409Z
UID:9598-1758985200-1758996000@redstar.audio
SUMMARY:CHIDORI - 20 Anos
DESCRIPTION:
URL:https://redstar.audio/evento/chidori-20-anos/
LOCATION:Red Star Studios\, Rua Teodoro Sampaio 512\, São Paulo\, São Paulo\, 05406-000\, Brasil
CATEGORIES:RedStar
ATTACH;FMTTYPE=image/jpeg:https://redstar.audio/wp-content/uploads/2025/09/1-6.jpg
END:VEVENT
BEGIN:VEVENT
DTSTART;TZID=America/Sao_Paulo:20250920T190000
DTEND;TZID=America/Sao_Paulo:20250920T233000
DTSTAMP:20260423T090906
CREATED:20250826T142511Z
LAST-MODIFIED:20250826T142511Z
UID:9331-1758394800-1758411000@redstar.audio
SUMMARY:Subversão 3ª Edição
DESCRIPTION:
URL:https://redstar.audio/evento/subversao-3a-edicao/
LOCATION:Red Star Studios\, Rua Teodoro Sampaio 512\, São Paulo\, São Paulo\, 05406-000\, Brasil
CATEGORIES:RedStar
ATTACH;FMTTYPE=image/jpeg:https://redstar.audio/wp-content/uploads/2025/08/1-1.jpg
END:VEVENT
BEGIN:VEVENT
DTSTART;TZID=America/Sao_Paulo:20250918T190000
DTEND;TZID=America/Sao_Paulo:20250918T233000
DTSTAMP:20260423T090906
CREATED:20250904T122301Z
LAST-MODIFIED:20250904T122504Z
UID:9415-1758222000-1758238200@redstar.audio
SUMMARY:Infect\, Dente Canino & Invictus
DESCRIPTION:
URL:https://redstar.audio/evento/infect-dente-canino-invictus/
LOCATION:Red Star Studios\, Rua Teodoro Sampaio 512\, São Paulo\, São Paulo\, 05406-000\, Brasil
CATEGORIES:RedStar
ATTACH;FMTTYPE=image/jpeg:https://redstar.audio/wp-content/uploads/2025/09/1-1.jpg
END:VEVENT
BEGIN:VEVENT
DTSTART;TZID=America/Sao_Paulo:20250906T180000
DTEND;TZID=America/Sao_Paulo:20250906T233000
DTSTAMP:20260423T090906
CREATED:20250606T143647Z
LAST-MODIFIED:20250724T010833Z
UID:8674-1757181600-1757201400@redstar.audio
SUMMARY:GABBA GABBA FEST 6
DESCRIPTION:
URL:https://redstar.audio/evento/gabba-gabba-fest-2025/
LOCATION:Red Star Studios\, Rua Teodoro Sampaio 512\, São Paulo\, São Paulo\, 05406-000\, Brasil
CATEGORIES:RedStar
ATTACH;FMTTYPE=image/jpeg:https://redstar.audio/wp-content/uploads/2025/06/1a.jpg
END:VEVENT
END:VCALENDAR