BEGIN:VCALENDAR
VERSION:2.0
PRODID:-//Red Star Studios - ECPv6.15.20//NONSGML v1.0//EN
CALSCALE:GREGORIAN
METHOD:PUBLISH
X-ORIGINAL-URL:https://redstar.audio
X-WR-CALDESC:Eventos para Red Star Studios
REFRESH-INTERVAL;VALUE=DURATION:PT1H
X-Robots-Tag:noindex
X-PUBLISHED-TTL:PT1H
BEGIN:VTIMEZONE
TZID:America/Sao_Paulo
BEGIN:STANDARD
TZOFFSETFROM:-0300
TZOFFSETTO:-0300
TZNAME:-03
DTSTART:20220101T000000
END:STANDARD
END:VTIMEZONE
BEGIN:VEVENT
DTSTART;TZID=America/Sao_Paulo:20240323T163000
DTEND;TZID=America/Sao_Paulo:20240323T203000
DTSTAMP:20260425T231516
CREATED:20240307T200216Z
LAST-MODIFIED:20240615T052411Z
UID:2656-1711211400-1711225800@redstar.audio
SUMMARY:RED STAR
DESCRIPTION:
URL:https://redstar.audio/evento/red-star-4/
LOCATION:Bomber Pub\, Rua Teodoro Sampaio 468\, São Paulo\, São Paulo\, 05406-000\, Brasil
CATEGORIES:RedStar
ATTACH;FMTTYPE=image/jpeg:https://redstar.audio/wp-content/uploads/2024/03/WhatsApp-Image-2024-03-07-at-13.19.42.jpeg
ORGANIZER;CN="Jeferson Bem":MAILTO:email@email.com
END:VEVENT
BEGIN:VEVENT
DTSTART;TZID=America/Sao_Paulo:20240323T070000
DTEND;TZID=America/Sao_Paulo:20240323T140000
DTSTAMP:20260425T231516
CREATED:20240313T233647Z
LAST-MODIFIED:20240615T052411Z
UID:2662-1711177200-1711202400@redstar.audio
SUMMARY:RED STAR
DESCRIPTION:
URL:https://redstar.audio/evento/red-star-6/
LOCATION:Red Star Studios\, Rua Teodoro Sampaio 512\, São Paulo\, São Paulo\, 05406-000\, Brasil
CATEGORIES:RedStar
ATTACH;FMTTYPE=image/jpeg:https://redstar.audio/wp-content/uploads/2024/03/WhatsApp-Image-2024-03-13-at-15.20.50.jpeg
END:VEVENT
BEGIN:VEVENT
DTSTART;TZID=America/Sao_Paulo:20240321T163000
DTEND;TZID=America/Sao_Paulo:20240321T203000
DTSTAMP:20260425T231516
CREATED:20240216T005250Z
LAST-MODIFIED:20240615T052411Z
UID:2632-1711038600-1711053000@redstar.audio
SUMMARY:RED STAR APRESENTA
DESCRIPTION:
URL:https://redstar.audio/evento/red-star-apresenta-28/
LOCATION:Red Star Studios\, Rua Teodoro Sampaio 512\, São Paulo\, São Paulo\, 05406-000\, Brasil
CATEGORIES:RedStar
ATTACH;FMTTYPE=image/jpeg:https://redstar.audio/wp-content/uploads/2024/02/WhatsApp-Image-2024-02-15-at-18.50.00.jpeg
ORGANIZER;CN="Jeferson Bem":MAILTO:email@email.com
END:VEVENT
BEGIN:VEVENT
DTSTART;TZID=America/Sao_Paulo:20240316T160000
DTEND;TZID=America/Sao_Paulo:20240316T203000
DTSTAMP:20260425T231516
CREATED:20240115T221202Z
LAST-MODIFIED:20240615T052411Z
UID:2484-1710604800-1710621000@redstar.audio
SUMMARY:RED STAR APRESENTA
DESCRIPTION:
URL:https://redstar.audio/evento/red-star-apresenta-21/
LOCATION:Red Star Studios\, Rua Teodoro Sampaio 512\, São Paulo\, São Paulo\, 05406-000\, Brasil
CATEGORIES:RedStar
ATTACH;FMTTYPE=image/jpeg:https://redstar.audio/wp-content/uploads/2024/01/WhatsApp-Image-2024-01-15-at-13.28.20.jpeg
ORGANIZER;CN="Jeferson Bem":MAILTO:email@email.com
END:VEVENT
BEGIN:VEVENT
DTSTART;TZID=America/Sao_Paulo:20240310T140000
DTEND;TZID=America/Sao_Paulo:20240310T203000
DTSTAMP:20260425T231516
CREATED:20240210T194905Z
LAST-MODIFIED:20240615T052411Z
UID:2628-1710079200-1710102600@redstar.audio
SUMMARY:RED STAR APRESENTA
DESCRIPTION:
URL:https://redstar.audio/evento/red-star-apresenta-26/
LOCATION:Red Star Studios\, Rua Teodoro Sampaio 512\, São Paulo\, São Paulo\, 05406-000\, Brasil
CATEGORIES:RedStar
ATTACH;FMTTYPE=image/jpeg:https://redstar.audio/wp-content/uploads/2024/02/WhatsApp-Image-2024-02-10-at-11.43.26.jpeg
ORGANIZER;CN="Jeferson Bem":MAILTO:email@email.com
END:VEVENT
BEGIN:VEVENT
DTSTART;TZID=America/Sao_Paulo:20240309T163000
DTEND;TZID=America/Sao_Paulo:20240309T203000
DTSTAMP:20260425T231516
CREATED:20240220T160658Z
LAST-MODIFIED:20240615T052411Z
UID:2636-1710001800-1710016200@redstar.audio
SUMMARY:RED STAR APRESENTA
DESCRIPTION:
URL:https://redstar.audio/evento/red-star-apresenta-29/
LOCATION:Red Star Studios\, Rua Teodoro Sampaio 512\, São Paulo\, São Paulo\, 05406-000\, Brasil
CATEGORIES:RedStar
ATTACH;FMTTYPE=image/jpeg:https://redstar.audio/wp-content/uploads/2024/02/WhatsApp-Image-2024-02-20-at-10.00.45.jpeg
END:VEVENT
BEGIN:VEVENT
DTSTART;TZID=America/Sao_Paulo:20240309T160000
DTEND;TZID=America/Sao_Paulo:20240309T203000
DTSTAMP:20260425T231516
CREATED:20240222T161329Z
LAST-MODIFIED:20240615T052446Z
UID:2643-1710000000-1710016200@redstar.audio
SUMMARY:RED STAR APRESENTA
DESCRIPTION:
URL:https://redstar.audio/evento/red-star-apresenta-31/
LOCATION:Red Star Studios\, Rua Teodoro Sampaio 512\, São Paulo\, São Paulo\, 05406-000\, Brasil
CATEGORIES:RedStar
ATTACH;FMTTYPE=image/jpeg:https://redstar.audio/wp-content/uploads/2024/02/WhatsApp-Image-2024-02-22-at-09.20.04.jpeg
ORGANIZER;CN="Jeferson Bem":MAILTO:email@email.com
END:VEVENT
BEGIN:VEVENT
DTSTART;TZID=America/Sao_Paulo:20240308T163000
DTEND;TZID=America/Sao_Paulo:20240308T203000
DTSTAMP:20260425T231516
CREATED:20240307T200711Z
LAST-MODIFIED:20240615T052446Z
UID:2659-1709915400-1709929800@redstar.audio
SUMMARY:RED STAR
DESCRIPTION:
URL:https://redstar.audio/evento/red-star-5/
LOCATION:Red Star Studios\, Rua Teodoro Sampaio 512\, São Paulo\, São Paulo\, 05406-000\, Brasil
CATEGORIES:RedStar
ATTACH;FMTTYPE=image/jpeg:https://redstar.audio/wp-content/uploads/2024/03/WhatsApp-Image-2024-03-07-at-14.03.17.jpeg
ORGANIZER;CN="Jeferson Bem":MAILTO:email@email.com
END:VEVENT
BEGIN:VEVENT
DTSTART;TZID=America/Sao_Paulo:20240302T160000
DTEND;TZID=America/Sao_Paulo:20240302T203000
DTSTAMP:20260425T231516
CREATED:20240205T194845Z
LAST-MODIFIED:20240615T052446Z
UID:2624-1709395200-1709411400@redstar.audio
SUMMARY:RED STAR APRESENTA
DESCRIPTION:
URL:https://redstar.audio/evento/red-star-apresenta-27/
LOCATION:Red Star Studios\, Rua Teodoro Sampaio 512\, São Paulo\, São Paulo\, 05406-000\, Brasil
CATEGORIES:RedStar
ATTACH;FMTTYPE=image/jpeg:https://redstar.audio/wp-content/uploads/2024/02/WhatsApp-Image-2024-02-05-at-13.43.13.jpeg
ORGANIZER;CN="Jeferson Bem":MAILTO:email@email.com
END:VEVENT
BEGIN:VEVENT
DTSTART;TZID=America/Sao_Paulo:20240223T163000
DTEND;TZID=America/Sao_Paulo:20240223T203000
DTSTAMP:20260425T231516
CREATED:20240119T161406Z
LAST-MODIFIED:20240615T052446Z
UID:2521-1708705800-1708720200@redstar.audio
SUMMARY:RED STAR APRESENTA
DESCRIPTION:
URL:https://redstar.audio/evento/red-star-apresenta-22/
LOCATION:Red Star Studios\, Rua Teodoro Sampaio 512\, São Paulo\, São Paulo\, 05406-000\, Brasil
CATEGORIES:RedStar
ATTACH;FMTTYPE=image/jpeg:https://redstar.audio/wp-content/uploads/2024/01/Feed-Gig-23-2-2024.jpg
ORGANIZER;CN="Jeferson Bem":MAILTO:email@email.com
END:VEVENT
BEGIN:VEVENT
DTSTART;TZID=America/Sao_Paulo:20240214T163000
DTEND;TZID=America/Sao_Paulo:20240214T203000
DTSTAMP:20260425T231516
CREATED:20240130T224707Z
LAST-MODIFIED:20240615T052447Z
UID:2614-1707928200-1707942600@redstar.audio
SUMMARY:RED STAR APRESENTA
DESCRIPTION:
URL:https://redstar.audio/evento/red-star-apresenta-24/
LOCATION:Red Star Studios\, Rua Teodoro Sampaio 512\, São Paulo\, São Paulo\, 05406-000\, Brasil
CATEGORIES:RedStar
ATTACH;FMTTYPE=image/jpeg:https://redstar.audio/wp-content/uploads/2024/01/Stories-Gig-14-2-2024-1-scaled.jpg
ORGANIZER;CN="Jeferson Bem":MAILTO:email@email.com
END:VEVENT
BEGIN:VEVENT
DTSTART;TZID=America/Sao_Paulo:20240204T113000
DTEND;TZID=America/Sao_Paulo:20240204T193000
DTSTAMP:20260425T231516
CREATED:20240123T182232Z
LAST-MODIFIED:20240615T052447Z
UID:2572-1707046200-1707075000@redstar.audio
SUMMARY:RED STAR APRESENTA
DESCRIPTION:
URL:https://redstar.audio/evento/red-star-apresenta-23/
LOCATION:Red Star Studios\, Rua Teodoro Sampaio 512\, São Paulo\, São Paulo\, 05406-000\, Brasil
CATEGORIES:RedStar
ATTACH;FMTTYPE=image/jpeg:https://redstar.audio/wp-content/uploads/2024/01/WhatsApp-Image-2024-01-23-at-12.08.26.jpeg
ORGANIZER;CN="Jeferson Bem":MAILTO:email@email.com
END:VEVENT
BEGIN:VEVENT
DTSTART;TZID=America/Sao_Paulo:20231216T173000
DTEND;TZID=America/Sao_Paulo:20231216T203000
DTSTAMP:20260425T231516
CREATED:20231113T214935Z
LAST-MODIFIED:20240615T052447Z
UID:2229-1702747800-1702758600@redstar.audio
SUMMARY:RED STAR APRESENTA
DESCRIPTION:
URL:https://redstar.audio/evento/red-star-apresenta-19/
LOCATION:Red Star Studios\, Rua Teodoro Sampaio 512\, São Paulo\, São Paulo\, 05406-000\, Brasil
CATEGORIES:RedStar
ATTACH;FMTTYPE=image/jpeg:https://redstar.audio/wp-content/uploads/2023/11/WhatsApp-Image-2023-11-13-at-14.05.50.jpeg
ORGANIZER;CN="Jeferson Bem":MAILTO:email@email.com
END:VEVENT
BEGIN:VEVENT
DTSTART;TZID=America/Sao_Paulo:20231215T173000
DTEND;TZID=America/Sao_Paulo:20231215T203000
DTSTAMP:20260425T231516
CREATED:20231122T162847Z
LAST-MODIFIED:20240615T052447Z
UID:2241-1702661400-1702672200@redstar.audio
SUMMARY:RED STAR STUDIOS
DESCRIPTION:
URL:https://redstar.audio/evento/red-star-studios-2/
LOCATION:Red Star Studios\, Rua Teodoro Sampaio 512\, São Paulo\, São Paulo\, 05406-000\, Brasil
CATEGORIES:RedStar
ATTACH;FMTTYPE=image/jpeg:https://redstar.audio/wp-content/uploads/2023/11/WhatsApp-Image-2023-11-21-at-19.38.01.jpeg
ORGANIZER;CN="Jeferson Bem":MAILTO:email@email.com
END:VEVENT
BEGIN:VEVENT
DTSTART;TZID=America/Sao_Paulo:20231210T190000
DTEND;TZID=America/Sao_Paulo:20231210T203000
DTSTAMP:20260425T231516
CREATED:20231108T213118Z
LAST-MODIFIED:20240615T052447Z
UID:2210-1702234800-1702240200@redstar.audio
SUMMARY:RED STAR
DESCRIPTION:
URL:https://redstar.audio/evento/red-star-2/
LOCATION:Red Star Studios\, Rua Teodoro Sampaio 512\, São Paulo\, São Paulo\, 05406-000\, Brasil
CATEGORIES:RedStar
ATTACH;FMTTYPE=image/jpeg:https://redstar.audio/wp-content/uploads/2023/11/WhatsApp-Image-2023-11-08-at-14.50.11.jpeg
ORGANIZER;CN="Jeferson Bem":MAILTO:email@email.com
END:VEVENT
BEGIN:VEVENT
DTSTART;TZID=America/Sao_Paulo:20231207T180000
DTEND;TZID=America/Sao_Paulo:20231207T200000
DTSTAMP:20260425T231516
CREATED:20231123T200231Z
LAST-MODIFIED:20240615T052447Z
UID:2245-1701972000-1701979200@redstar.audio
SUMMARY:RED STAR APRESENTA
DESCRIPTION:
URL:https://redstar.audio/evento/red-star-apresenta-20/
LOCATION:Red Star Studios\, Rua Teodoro Sampaio 512\, São Paulo\, São Paulo\, 05406-000\, Brasil
CATEGORIES:RedStar
ATTACH;FMTTYPE=image/jpeg:https://redstar.audio/wp-content/uploads/2023/11/WhatsApp-Image-2023-11-23-at-07.54.33.jpeg
ORGANIZER;CN="Jeferson Bem":MAILTO:email@email.com
END:VEVENT
BEGIN:VEVENT
DTSTART;TZID=America/Sao_Paulo:20231202T180000
DTEND;TZID=America/Sao_Paulo:20231202T203000
DTSTAMP:20260425T231516
CREATED:20231107T152241Z
LAST-MODIFIED:20240615T052447Z
UID:2206-1701540000-1701549000@redstar.audio
SUMMARY:RED STAR
DESCRIPTION:
URL:https://redstar.audio/evento/red-star/
LOCATION:Red Star Studios\, Rua Teodoro Sampaio 512\, São Paulo\, São Paulo\, 05406-000\, Brasil
CATEGORIES:RedStar
ATTACH;FMTTYPE=image/jpeg:https://redstar.audio/wp-content/uploads/2023/11/WhatsApp-Image-2023-11-07-at-08.34.06-1.jpeg
ORGANIZER;CN="Jeferson Bem":MAILTO:email@email.com
END:VEVENT
BEGIN:VEVENT
DTSTART;TZID=America/Sao_Paulo:20231116T163000
DTEND;TZID=America/Sao_Paulo:20231116T203000
DTSTAMP:20260425T231516
CREATED:20231110T223647Z
LAST-MODIFIED:20240615T052447Z
UID:2218-1700152200-1700166600@redstar.audio
SUMMARY:RED STAR APRESENTA
DESCRIPTION:
URL:https://redstar.audio/evento/red-star-apresenta-18/
LOCATION:Red Star Studios\, Rua Teodoro Sampaio 512\, São Paulo\, São Paulo\, 05406-000\, Brasil
CATEGORIES:RedStar
ATTACH;FMTTYPE=image/jpeg:https://redstar.audio/wp-content/uploads/2023/11/WhatsApp-Image-2023-11-10-at-13.22.24.jpeg
ORGANIZER;CN="Jeferson Bem":MAILTO:email@email.com
END:VEVENT
BEGIN:VEVENT
DTSTART;TZID=America/Sao_Paulo:20231111T050000
DTEND;TZID=America/Sao_Paulo:20231111T140000
DTSTAMP:20260425T231516
CREATED:20231010T184522Z
LAST-MODIFIED:20240615T052448Z
UID:2159-1699678800-1699711200@redstar.audio
SUMMARY:RED STAR APRESENTA
DESCRIPTION:
URL:https://redstar.audio/evento/red-star-apresenta-12/
LOCATION:Red Star Studios\, Rua Teodoro Sampaio 512\, São Paulo\, São Paulo\, 05406-000\, Brasil
CATEGORIES:RedStar
ATTACH;FMTTYPE=image/jpeg:https://redstar.audio/wp-content/uploads/2023/10/WhatsApp-Image-2023-09-28-at-07.49.38.jpeg
ORGANIZER;CN="Jeferson Bem":MAILTO:email@email.com
END:VEVENT
BEGIN:VEVENT
DTSTART;TZID=America/Sao_Paulo:20231104T150000
DTEND;TZID=America/Sao_Paulo:20231104T203000
DTSTAMP:20260425T231516
CREATED:20231023T205121Z
LAST-MODIFIED:20240615T052448Z
UID:2186-1699110000-1699129800@redstar.audio
SUMMARY:RED STAR STUDIOS
DESCRIPTION:
URL:https://redstar.audio/evento/red-star-studios/
LOCATION:Red Star Studios\, Rua Teodoro Sampaio 512\, São Paulo\, São Paulo\, 05406-000\, Brasil
CATEGORIES:RedStar
ATTACH;FMTTYPE=image/jpeg:https://redstar.audio/wp-content/uploads/2023/10/WhatsApp-Image-2023-10-23-at-14.46.43.jpeg
ORGANIZER;CN="Jeferson Bem":MAILTO:email@email.com
END:VEVENT
BEGIN:VEVENT
DTSTART;TZID=America/Sao_Paulo:20231103T170000
DTEND;TZID=America/Sao_Paulo:20231103T203000
DTSTAMP:20260425T231516
CREATED:20231030T155314Z
LAST-MODIFIED:20240615T052448Z
UID:2192-1699030800-1699043400@redstar.audio
SUMMARY:RED STAR APRESENTA:
DESCRIPTION:
URL:https://redstar.audio/evento/red-star-apresenta-17/
LOCATION:Red Star Studios\, Rua Teodoro Sampaio 512\, São Paulo\, São Paulo\, 05406-000\, Brasil
CATEGORIES:RedStar
ATTACH;FMTTYPE=image/jpeg:https://redstar.audio/wp-content/uploads/2023/10/WhatsApp-Image-2023-10-30-at-08.04.58.jpeg
ORGANIZER;CN="Jeferson Bem":MAILTO:email@email.com
END:VEVENT
BEGIN:VEVENT
DTSTART;TZID=America/Sao_Paulo:20231028T050000
DTEND;TZID=America/Sao_Paulo:20231028T140000
DTSTAMP:20260425T231516
CREATED:20231010T184757Z
LAST-MODIFIED:20240615T052448Z
UID:2168-1698469200-1698501600@redstar.audio
SUMMARY:RED STAR APRESENTA
DESCRIPTION:
URL:https://redstar.audio/evento/red-star-apresenta-15/
LOCATION:Red Star Studios\, Rua Teodoro Sampaio 512\, São Paulo\, São Paulo\, 05406-000\, Brasil
CATEGORIES:RedStar
ATTACH;FMTTYPE=image/jpeg:https://redstar.audio/wp-content/uploads/2023/10/WhatsApp-Image-2023-10-02-at-15.25.19.jpeg
ORGANIZER;CN="Jeferson Bem":MAILTO:email@email.com
END:VEVENT
BEGIN:VEVENT
DTSTART;TZID=America/Sao_Paulo:20231027T050000
DTEND;TZID=America/Sao_Paulo:20231027T140000
DTSTAMP:20260425T231516
CREATED:20231010T184722Z
LAST-MODIFIED:20240615T052448Z
UID:2165-1698382800-1698415200@redstar.audio
SUMMARY:RED STAR APRESENTA
DESCRIPTION:
URL:https://redstar.audio/evento/red-star-apresenta-14/
LOCATION:Red Star Studios\, Rua Teodoro Sampaio 512\, São Paulo\, São Paulo\, 05406-000\, Brasil
CATEGORIES:RedStar
ATTACH;FMTTYPE=image/jpeg:https://redstar.audio/wp-content/uploads/2023/10/WhatsApp-Image-2023-10-02-at-15.25.19.jpeg
ORGANIZER;CN="Jeferson Bem":MAILTO:email@email.com
END:VEVENT
BEGIN:VEVENT
DTSTART;TZID=America/Sao_Paulo:20231022T050000
DTEND;TZID=America/Sao_Paulo:20231022T140000
DTSTAMP:20260425T231516
CREATED:20231010T184627Z
LAST-MODIFIED:20240615T052448Z
UID:2162-1697950800-1697983200@redstar.audio
SUMMARY:RED STAR APRESENTA
DESCRIPTION:
URL:https://redstar.audio/evento/red-star-apresenta-13/
LOCATION:Red Star Studios\, Rua Teodoro Sampaio 512\, São Paulo\, São Paulo\, 05406-000\, Brasil
CATEGORIES:RedStar
ATTACH;FMTTYPE=image/jpeg:https://redstar.audio/wp-content/uploads/2023/10/WhatsApp-Image-2023-10-02-at-11.35.53.jpeg
ORGANIZER;CN="Jeferson Bem":MAILTO:email@email.com
END:VEVENT
BEGIN:VEVENT
DTSTART;TZID=America/Sao_Paulo:20231015T050000
DTEND;TZID=America/Sao_Paulo:20231015T140000
DTSTAMP:20260425T231516
CREATED:20231010T184905Z
LAST-MODIFIED:20240615T052448Z
UID:2171-1697346000-1697378400@redstar.audio
SUMMARY:RED STAR APRESENTA
DESCRIPTION:
URL:https://redstar.audio/evento/red-star-apresenta-16/
LOCATION:Red Star Studios\, Rua Teodoro Sampaio 512\, São Paulo\, São Paulo\, 05406-000\, Brasil
CATEGORIES:RedStar
ATTACH;FMTTYPE=image/jpeg:https://redstar.audio/wp-content/uploads/2023/10/WhatsApp-Image-2023-10-10-at-08.07.50.jpeg
ORGANIZER;CN="Jeferson Bem":MAILTO:email@email.com
END:VEVENT
BEGIN:VEVENT
DTSTART;TZID=America/Sao_Paulo:20231010T173000
DTEND;TZID=America/Sao_Paulo:20231010T203000
DTSTAMP:20260425T231516
CREATED:20231010T180110Z
LAST-MODIFIED:20240615T052448Z
UID:2131-1696959000-1696969800@redstar.audio
SUMMARY:RED STAR APRESENTA
DESCRIPTION:
URL:https://redstar.audio/evento/red-star-apresenta-10/
LOCATION:Red Star Studios\, Rua Teodoro Sampaio 512\, São Paulo\, São Paulo\, 05406-000\, Brasil
CATEGORIES:RedStar
ATTACH;FMTTYPE=image/jpeg:https://redstar.audio/wp-content/uploads/2023/10/WhatsApp-Image-2023-09-19-at-06.18.07.jpeg
ORGANIZER;CN="Jeferson Bem":MAILTO:email@email.com
END:VEVENT
BEGIN:VEVENT
DTSTART;TZID=America/Sao_Paulo:20230812T010000
DTEND;TZID=America/Sao_Paulo:20230812T160000
DTSTAMP:20260425T231516
CREATED:20230627T233854Z
LAST-MODIFIED:20240615T052448Z
UID:2054-1691802000-1691856000@redstar.audio
SUMMARY:Feira do cachorro louco
DESCRIPTION:
URL:https://redstar.audio/evento/feira-do-cachorro-louco/
LOCATION:Red Star Studios\, Rua Teodoro Sampaio 512\, São Paulo\, São Paulo\, 05406-000\, Brasil
CATEGORIES:RedStar
ATTACH;FMTTYPE=image/jpeg:https://redstar.audio/wp-content/uploads/2023/06/WhatsApp-Image-2023-06-27-at-17.33.17.jpeg
ORGANIZER;CN="Jeferson Bem":MAILTO:email@email.com
END:VEVENT
BEGIN:VEVENT
DTSTART;TZID=America/Sao_Paulo:20230716T150000
DTEND;TZID=America/Sao_Paulo:20230716T203000
DTSTAMP:20260425T231516
CREATED:20230616T181019Z
LAST-MODIFIED:20240615T052448Z
UID:2034-1689519600-1689539400@redstar.audio
SUMMARY:Bizzarones\, Da Montanha e Não Há Mais Volta
DESCRIPTION:
URL:https://redstar.audio/evento/bizzarones-da-montanha-e-nao-ha-mais-volta/
LOCATION:São Paulo
CATEGORIES:RedStar
ATTACH;FMTTYPE=image/jpeg:https://redstar.audio/wp-content/uploads/2023/06/fa09807d-41df-4ac7-830b-cddc4638996c.jpeg
END:VEVENT
BEGIN:VEVENT
DTSTART;TZID=America/Sao_Paulo:20230709T150000
DTEND;TZID=America/Sao_Paulo:20230709T200000
DTSTAMP:20260425T231516
CREATED:20230621T185342Z
LAST-MODIFIED:20240615T052449Z
UID:2039-1688914800-1688932800@redstar.audio
SUMMARY:Redstar apresenta:
DESCRIPTION:Entrada R$ 25\,00 \n 
URL:https://redstar.audio/evento/redstar-aprensenta/
LOCATION:Red Star Studios\, Rua Teodoro Sampaio 512\, São Paulo\, São Paulo\, 05406-000\, Brasil
CATEGORIES:RedStar
ATTACH;FMTTYPE=image/jpeg:https://redstar.audio/wp-content/uploads/2023/06/WhatsApp-Image-2023-06-21-at-12.40.26.jpeg
ORGANIZER;CN="Jeferson Bem":MAILTO:email@email.com
END:VEVENT
BEGIN:VEVENT
DTSTART;TZID=America/Sao_Paulo:20230702T150000
DTEND;TZID=America/Sao_Paulo:20230702T193000
DTSTAMP:20260425T231516
CREATED:20230629T010317Z
LAST-MODIFIED:20240615T052449Z
UID:2067-1688310000-1688326200@redstar.audio
SUMMARY:Redstar apresenta:
DESCRIPTION:R$ 25\,00
URL:https://redstar.audio/evento/redstar-apresenta/
LOCATION:Red Star Studios\, Rua Teodoro Sampaio 512\, São Paulo\, São Paulo\, 05406-000\, Brasil
CATEGORIES:RedStar
ATTACH;FMTTYPE=image/jpeg:https://redstar.audio/wp-content/uploads/2023/06/WhatsApp-Image-2023-06-28-at-13.16.15.jpeg
ORGANIZER;CN="Jeferson Bem":MAILTO:email@email.com
END:VEVENT
END:VCALENDAR