BEGIN:VCALENDAR
VERSION:2.0
PRODID:-//Red Star Studios - ECPv6.15.20//NONSGML v1.0//EN
CALSCALE:GREGORIAN
METHOD:PUBLISH
X-WR-CALNAME:Red Star Studios
X-ORIGINAL-URL:https://redstar.audio
X-WR-CALDESC:Eventos para Red Star Studios
REFRESH-INTERVAL;VALUE=DURATION:PT1H
X-Robots-Tag:noindex
X-PUBLISHED-TTL:PT1H
BEGIN:VTIMEZONE
TZID:America/Sao_Paulo
BEGIN:STANDARD
TZOFFSETFROM:-0300
TZOFFSETTO:-0300
TZNAME:-03
DTSTART:20230101T000000
END:STANDARD
END:VTIMEZONE
BEGIN:VEVENT
DTSTART;TZID=America/Sao_Paulo:20250328T190000
DTEND;TZID=America/Sao_Paulo:20250328T230000
DTSTAMP:20260425T104114
CREATED:20250212T144820Z
LAST-MODIFIED:20250212T150009Z
UID:6256-1743188400-1743202800@redstar.audio
SUMMARY:Red Star Sessions - Zabomba
DESCRIPTION:
URL:https://redstar.audio/evento/red-star-sessions-zabomba/
LOCATION:Red Star Studios\, Rua Teodoro Sampaio 512\, São Paulo\, São Paulo\, 05406-000\, Brasil
CATEGORIES:RedStar
ATTACH;FMTTYPE=image/jpeg:https://redstar.audio/wp-content/uploads/2025/02/Feed-Zabomba-RSS.jpg
END:VEVENT
BEGIN:VEVENT
DTSTART;TZID=America/Sao_Paulo:20250322T133000
DTEND;TZID=America/Sao_Paulo:20250322T153000
DTSTAMP:20260425T104114
CREATED:20250210T184340Z
LAST-MODIFIED:20250212T150114Z
UID:6135-1742650200-1742657400@redstar.audio
SUMMARY:SP! Oficina de Bateria para Garotas!
DESCRIPTION:
URL:https://redstar.audio/evento/sp-oficina-de-bateria-para-garotas/
LOCATION:Red Star Studios\, Rua Teodoro Sampaio 512\, São Paulo\, São Paulo\, 05406-000\, Brasil
CATEGORIES:RedStar
ATTACH;FMTTYPE=image/jpeg:https://redstar.audio/wp-content/uploads/2025/02/1-2.jpg
END:VEVENT
BEGIN:VEVENT
DTSTART;TZID=America/Sao_Paulo:20250320T200000
DTEND;TZID=America/Sao_Paulo:20250320T230000
DTSTAMP:20260425T104114
CREATED:20250224T182809Z
LAST-MODIFIED:20250224T182809Z
UID:6282-1742500800-1742511600@redstar.audio
SUMMARY:JARAKILLERS - São Paulo Tour 2025
DESCRIPTION:
URL:https://redstar.audio/evento/jarakillers-sao-paulo-tour-2025/
LOCATION:Red Star Studios\, Rua Teodoro Sampaio 512\, São Paulo\, São Paulo\, 05406-000\, Brasil
CATEGORIES:RedStar
ATTACH;FMTTYPE=image/jpeg:https://redstar.audio/wp-content/uploads/2025/02/1-4.jpg
END:VEVENT
BEGIN:VEVENT
DTSTART;TZID=America/Sao_Paulo:20250316T170000
DTEND;TZID=America/Sao_Paulo:20250316T220000
DTSTAMP:20260425T104114
CREATED:20250221T123112Z
LAST-MODIFIED:20250221T123112Z
UID:6277-1742144400-1742162400@redstar.audio
SUMMARY:LADO TREZE - Pré estreia do Álbum: Ideologia Em Tempos Loucos
DESCRIPTION:
URL:https://redstar.audio/evento/lado-treze-pre-estreia-do-album-ideologia-em-tempos-loucos/
LOCATION:Red Star Studios\, Rua Teodoro Sampaio 512\, São Paulo\, São Paulo\, 05406-000\, Brasil
CATEGORIES:RedStar
ATTACH;FMTTYPE=image/jpeg:https://redstar.audio/wp-content/uploads/2025/02/1-3.jpg
END:VEVENT
BEGIN:VEVENT
DTSTART;TZID=America/Sao_Paulo:20250315T210000
DTEND;TZID=America/Sao_Paulo:20250315T230000
DTSTAMP:20260425T104114
CREATED:20250203T113131Z
LAST-MODIFIED:20250313T142333Z
UID:6022-1742072400-1742079600@redstar.audio
SUMMARY:Mister Fleet - Fleetwood Mac Tributo Brasil
DESCRIPTION:
URL:https://redstar.audio/evento/mister-fleet-fleetwood-mac-tributo-brasil/
LOCATION:Red Star Studios\, Rua Teodoro Sampaio 512\, São Paulo\, São Paulo\, 05406-000\, Brasil
CATEGORIES:RedStar
ATTACH;FMTTYPE=image/jpeg:https://redstar.audio/wp-content/uploads/2025/02/1.jpg
END:VEVENT
BEGIN:VEVENT
DTSTART;TZID=America/Sao_Paulo:20250308T140000
DTEND;TZID=America/Sao_Paulo:20250308T230000
DTSTAMP:20260425T104114
CREATED:20250228T182142Z
LAST-MODIFIED:20250228T182142Z
UID:6292-1741442400-1741474800@redstar.audio
SUMMARY:ROCK PARA ELAS: Especial Dia Internacional Da Mulher
DESCRIPTION:
URL:https://redstar.audio/evento/rock-para-elas-especial-dia-internacional-da-mulher/
LOCATION:Red Star Studios\, Rua Teodoro Sampaio 512\, São Paulo\, São Paulo\, 05406-000\, Brasil
CATEGORIES:RedStar
ATTACH;FMTTYPE=image/jpeg:https://redstar.audio/wp-content/uploads/2025/02/1.jpeg
END:VEVENT
BEGIN:VEVENT
DTSTART;TZID=America/Sao_Paulo:20250227T190000
DTEND;TZID=America/Sao_Paulo:20250227T230000
DTSTAMP:20260425T104114
CREATED:20250227T144526Z
LAST-MODIFIED:20250227T144526Z
UID:6287-1740682800-1740697200@redstar.audio
SUMMARY:13 Bats\, Gabriel Thomaz\, Multi-Homem & Asteroides Trio
DESCRIPTION:
URL:https://redstar.audio/evento/13-bats-gabriel-thomaz-multi-homem-asteroides-trio-2/
LOCATION:Red Star Studios\, Rua Teodoro Sampaio 512\, São Paulo\, São Paulo\, 05406-000\, Brasil
CATEGORIES:RedStar
ATTACH;FMTTYPE=image/jpeg:https://redstar.audio/wp-content/uploads/2025/01/1-9.jpg
END:VEVENT
BEGIN:VEVENT
DTSTART;TZID=America/Sao_Paulo:20250221T190000
DTEND;TZID=America/Sao_Paulo:20250221T230000
DTSTAMP:20260425T104114
CREATED:20250220T014038Z
LAST-MODIFIED:20250220T014038Z
UID:6269-1740164400-1740178800@redstar.audio
SUMMARY:Swindle\, Pat e os Condenados & Sociopatas
DESCRIPTION:
URL:https://redstar.audio/evento/swindle-pat-e-os-condenados-sociopatas/
LOCATION:Bomber Pub\, Rua Teodoro Sampaio 468\, São Paulo\, São Paulo\, 05406-000\, Brasil
CATEGORIES:RedStar
ATTACH;FMTTYPE=image/jpeg:https://redstar.audio/wp-content/uploads/2025/02/Feed-Bomber-21-2-25.jpg
END:VEVENT
BEGIN:VEVENT
DTSTART;TZID=America/Sao_Paulo:20250215T190000
DTEND;TZID=America/Sao_Paulo:20250215T230000
DTSTAMP:20260425T104114
CREATED:20250131T204607Z
LAST-MODIFIED:20250131T204607Z
UID:6017-1739646000-1739660400@redstar.audio
SUMMARY:Mollotov Attack vs ArtigoDZ9?
DESCRIPTION:
URL:https://redstar.audio/evento/mollotov-attack-vs-artigodz9/
LOCATION:Bomber Pub\, Rua Teodoro Sampaio 468\, São Paulo\, São Paulo\, 05406-000\, Brasil
CATEGORIES:RedStar
ATTACH;FMTTYPE=image/jpeg:https://redstar.audio/wp-content/uploads/2025/01/1-10.jpg
END:VEVENT
BEGIN:VEVENT
DTSTART;TZID=America/Sao_Paulo:20250215T180000
DTEND;TZID=America/Sao_Paulo:20250215T230000
DTSTAMP:20260425T104114
CREATED:20250128T120626Z
LAST-MODIFIED:20250212T150253Z
UID:6005-1739642400-1739660400@redstar.audio
SUMMARY:União Metal Brasil - 1ª Edição
DESCRIPTION:
URL:https://redstar.audio/evento/punk-rock-night/
LOCATION:Red Star Studios\, Rua Teodoro Sampaio 512\, São Paulo\, São Paulo\, 05406-000\, Brasil
CATEGORIES:RedStar
ATTACH;FMTTYPE=image/jpeg:https://redstar.audio/wp-content/uploads/2025/01/1-11.jpg
END:VEVENT
BEGIN:VEVENT
DTSTART;TZID=America/Sao_Paulo:20250214T190000
DTEND;TZID=America/Sao_Paulo:20250214T230000
DTSTAMP:20260425T104114
CREATED:20250108T161445Z
LAST-MODIFIED:20250108T161445Z
UID:5436-1739559600-1739574000@redstar.audio
SUMMARY:Jovelina & Manifeste
DESCRIPTION:
URL:https://redstar.audio/evento/jovelina-manifeste/
LOCATION:Red Star Studios\, Rua Teodoro Sampaio 512\, São Paulo\, São Paulo\, 05406-000\, Brasil
CATEGORIES:RedStar
ATTACH;FMTTYPE=image/jpeg:https://redstar.audio/wp-content/uploads/2025/01/1.jpg
END:VEVENT
BEGIN:VEVENT
DTSTART;TZID=America/Sao_Paulo:20250208T190000
DTEND;TZID=America/Sao_Paulo:20250208T230000
DTSTAMP:20260425T104114
CREATED:20250207T150003Z
LAST-MODIFIED:20250207T150003Z
UID:6123-1739041200-1739055600@redstar.audio
SUMMARY:Show de Lançamento - Ubirajaras Rock BR
DESCRIPTION:
URL:https://redstar.audio/evento/show-de-lancamento-ubirajaras-rock-br/
LOCATION:Red Star Studios\, Rua Teodoro Sampaio 462\, São Paulo\, SP\, 05406-000\, Brasil
CATEGORIES:RedStar
ATTACH;FMTTYPE=image/jpeg:https://redstar.audio/wp-content/uploads/2025/02/2.jpg
END:VEVENT
BEGIN:VEVENT
DTSTART;TZID=America/Sao_Paulo:20250208T143000
DTEND;TZID=America/Sao_Paulo:20250208T160000
DTSTAMP:20260425T104114
CREATED:20250107T151657Z
LAST-MODIFIED:20250107T151915Z
UID:5396-1739025000-1739030400@redstar.audio
SUMMARY:Show da IGUARIAS
DESCRIPTION:
URL:https://redstar.audio/evento/show-da-iguarias/
LOCATION:Red Star Studios\, Rua Teodoro Sampaio 512\, São Paulo\, São Paulo\, 05406-000\, Brasil
CATEGORIES:RedStar
ATTACH;FMTTYPE=image/jpeg:https://redstar.audio/wp-content/uploads/2025/01/128eb473-1e7e-4296-9a8d-ab5671b34031.jpg
END:VEVENT
BEGIN:VEVENT
DTSTART;TZID=America/Sao_Paulo:20250201T190000
DTEND;TZID=America/Sao_Paulo:20250201T230000
DTSTAMP:20260425T104114
CREATED:20250130T171646Z
LAST-MODIFIED:20250130T171646Z
UID:6012-1738436400-1738450800@redstar.audio
SUMMARY:URDZA
DESCRIPTION:
URL:https://redstar.audio/evento/urdza/
LOCATION:Red Star Studios\, Rua Teodoro Sampaio 512\, São Paulo\, São Paulo\, 05406-000\, Brasil
CATEGORIES:RedStar
ATTACH;FMTTYPE=image/jpeg:https://redstar.audio/wp-content/uploads/2025/01/1.jpeg
END:VEVENT
BEGIN:VEVENT
DTSTART;TZID=America/Sao_Paulo:20250131T200000
DTEND;TZID=America/Sao_Paulo:20250131T230000
DTSTAMP:20260425T104114
CREATED:20250114T210512Z
LAST-MODIFIED:20250114T210603Z
UID:5775-1738353600-1738364400@redstar.audio
SUMMARY:LEATHER - One Night Only For Metal
DESCRIPTION:
URL:https://redstar.audio/evento/leather-one-night-only-for-metal/
LOCATION:Red Star Studios\, Rua Teodoro Sampaio 512\, São Paulo\, São Paulo\, 05406-000\, Brasil
CATEGORIES:RedStar
ATTACH;FMTTYPE=image/jpeg:https://redstar.audio/wp-content/uploads/2025/01/1-4.jpg
END:VEVENT
BEGIN:VEVENT
DTSTART;TZID=America/Sao_Paulo:20250125T180000
DTEND;TZID=America/Sao_Paulo:20250125T230000
DTSTAMP:20260425T104114
CREATED:20250117T222304Z
LAST-MODIFIED:20250117T222304Z
UID:5864-1737828000-1737846000@redstar.audio
SUMMARY:COOLERS & Friends
DESCRIPTION:
URL:https://redstar.audio/evento/coolers-friends/
LOCATION:Red Star Studios\, Rua Teodoro Sampaio 512\, São Paulo\, São Paulo\, 05406-000\, Brasil
CATEGORIES:RedStar
ATTACH;FMTTYPE=image/jpeg:https://redstar.audio/wp-content/uploads/2025/01/25-01.jpg
END:VEVENT
BEGIN:VEVENT
DTSTART;TZID=America/Sao_Paulo:20250119T153000
DTEND;TZID=America/Sao_Paulo:20250119T173000
DTSTAMP:20260425T104114
CREATED:20241211T130401Z
LAST-MODIFIED:20250114T210951Z
UID:4825-1737300600-1737307800@redstar.audio
SUMMARY:Nyna Ramos num tributo a Rita Lee - Babilonia
DESCRIPTION:
URL:https://redstar.audio/evento/rita-lee-tributo-babilonia/
LOCATION:Red Star Studios\, Rua Teodoro Sampaio 512\, São Paulo\, São Paulo\, 05406-000\, Brasil
CATEGORIES:RedStar
ATTACH;FMTTYPE=image/jpeg:https://redstar.audio/wp-content/uploads/2024/12/Nyna-Ramos-Rita-Lee-19-01.jpg
END:VEVENT
BEGIN:VEVENT
DTSTART;TZID=America/Sao_Paulo:20250118T200000
DTEND;TZID=America/Sao_Paulo:20250118T230000
DTSTAMP:20260425T104114
CREATED:20250109T141311Z
LAST-MODIFIED:20250109T163914Z
UID:5469-1737230400-1737241200@redstar.audio
SUMMARY:Música Pela Palestina
DESCRIPTION:
URL:https://redstar.audio/evento/musica-pela-palestina/
LOCATION:Red Star Studios\, Rua Teodoro Sampaio 512\, São Paulo\, São Paulo\, 05406-000\, Brasil
CATEGORIES:RedStar
ATTACH;FMTTYPE=image/jpeg:https://redstar.audio/wp-content/uploads/2025/01/1-2.jpg
END:VEVENT
BEGIN:VEVENT
DTSTART;TZID=America/Sao_Paulo:20250118T190000
DTEND;TZID=America/Sao_Paulo:20250118T220000
DTSTAMP:20260425T104114
CREATED:20250117T224310Z
LAST-MODIFIED:20250117T224310Z
UID:5868-1737226800-1737237600@redstar.audio
SUMMARY:Aniversário de 1 anos dos Caramelos sem Destino
DESCRIPTION:
URL:https://redstar.audio/evento/aniversario-de-1-anos-dos-caramelos-sem-destino/
LOCATION:Bomber Pub\, Rua Teodoro Sampaio 468\, São Paulo\, São Paulo\, 05406-000\, Brasil
CATEGORIES:RedStar
ATTACH;FMTTYPE=image/jpeg:https://redstar.audio/wp-content/uploads/2025/01/1-6.jpg
END:VEVENT
BEGIN:VEVENT
DTSTART;TZID=America/Sao_Paulo:20250111T180000
DTEND;TZID=America/Sao_Paulo:20250111T230000
DTSTAMP:20260425T104114
CREATED:20241227T223929Z
LAST-MODIFIED:20250111T205922Z
UID:5256-1736618400-1736636400@redstar.audio
SUMMARY:STOMP - Show de lançamento Mood Swings
DESCRIPTION:
URL:https://redstar.audio/evento/stomp-show-de-lancamento-mood-swings/
LOCATION:Red Star Studios\, Rua Teodoro Sampaio 512\, São Paulo\, São Paulo\, 05406-000\, Brasil
CATEGORIES:RedStar
ATTACH;FMTTYPE=image/jpeg:https://redstar.audio/wp-content/uploads/2024/12/CARTAZ_ATUALIZADO.jpg
END:VEVENT
BEGIN:VEVENT
DTSTART;TZID=America/Sao_Paulo:20241221T210000
DTEND;TZID=America/Sao_Paulo:20241221T233000
DTSTAMP:20260425T104114
CREATED:20241009T235402Z
LAST-MODIFIED:20241009T235514Z
UID:4274-1734814800-1734823800@redstar.audio
SUMMARY:Final Disaster - Show histórico
DESCRIPTION:
URL:https://redstar.audio/evento/final-disaster-show-historico/
LOCATION:Red Star Studios\, Rua Teodoro Sampaio 512\, São Paulo\, São Paulo\, 05406-000\, Brasil
CATEGORIES:RedStar
ATTACH;FMTTYPE=image/jpeg:https://redstar.audio/wp-content/uploads/2024/10/21-12.jpg
END:VEVENT
BEGIN:VEVENT
DTSTART;TZID=America/Sao_Paulo:20241220T200000
DTEND;TZID=America/Sao_Paulo:20241220T233000
DTSTAMP:20260425T104114
CREATED:20241205T154218Z
LAST-MODIFIED:20241216T191207Z
UID:4621-1734724800-1734737400@redstar.audio
SUMMARY:Restos de Nada no Red Star
DESCRIPTION:
URL:https://redstar.audio/evento/restos-de-nada-no-red-star/
LOCATION:Red Star Studios\, Rua Teodoro Sampaio 512\, São Paulo\, São Paulo\, 05406-000\, Brasil
CATEGORIES:RedStar
ATTACH;FMTTYPE=image/jpeg:https://redstar.audio/wp-content/uploads/2024/12/Feed-Restos-MA.jpg
END:VEVENT
BEGIN:VEVENT
DTSTART;TZID=America/Sao_Paulo:20241214T190000
DTEND;TZID=America/Sao_Paulo:20241214T233000
DTSTAMP:20260425T104114
CREATED:20241128T130819Z
LAST-MODIFIED:20241128T130819Z
UID:4431-1734202800-1734219000@redstar.audio
SUMMARY:Reencontro dos Pioneiros - SP Metal I
DESCRIPTION:
URL:https://redstar.audio/evento/reencontro-dos-pioneiros-sp-metal-i/
LOCATION:Red Star Studios\, Rua Teodoro Sampaio 512\, São Paulo\, São Paulo\, 05406-000\, Brasil
CATEGORIES:RedStar
ATTACH;FMTTYPE=image/jpeg:https://redstar.audio/wp-content/uploads/2024/11/WhatsApp-Image-2024-11-28-at-09.44.41.jpeg
END:VEVENT
BEGIN:VEVENT
DTSTART;TZID=America/Sao_Paulo:20241213T190000
DTEND;TZID=America/Sao_Paulo:20241213T233000
DTSTAMP:20260425T104114
CREATED:20241211T132324Z
LAST-MODIFIED:20241211T141848Z
UID:4829-1734116400-1734132600@redstar.audio
SUMMARY:Jonathan Barber - South American Tour
DESCRIPTION:
URL:https://redstar.audio/evento/jonathan-barber-south-american-tour/
LOCATION:Red Star Studios\, Rua Teodoro Sampaio 512\, São Paulo\, São Paulo\, 05406-000\, Brasil
CATEGORIES:RedStar
ATTACH;FMTTYPE=image/jpeg:https://redstar.audio/wp-content/uploads/2024/12/WhatsApp-Image-2024-12-11-at-11.11.39.jpeg
END:VEVENT
BEGIN:VEVENT
DTSTART;TZID=America/Sao_Paulo:20241208T190000
DTEND;TZID=America/Sao_Paulo:20241208T233000
DTSTAMP:20260425T104114
CREATED:20241023T152326Z
LAST-MODIFIED:20241031T183306Z
UID:4382-1733684400-1733700600@redstar.audio
SUMMARY:Red Star Sessions - Cólera
DESCRIPTION:
URL:https://redstar.audio/evento/red-star-sessions-colera/
LOCATION:Red Star Studios\, Rua Teodoro Sampaio 512\, São Paulo\, São Paulo\, 05406-000\, Brasil
CATEGORIES:RedStar
ATTACH;FMTTYPE=image/jpeg:https://redstar.audio/wp-content/uploads/2024/10/Feed-Colera-RSS.jpg
END:VEVENT
BEGIN:VEVENT
DTSTART;TZID=America/Sao_Paulo:20241207T190000
DTEND;TZID=America/Sao_Paulo:20241207T233000
DTSTAMP:20260425T104114
CREATED:20241201T161335Z
LAST-MODIFIED:20241201T161531Z
UID:4447-1733598000-1733614200@redstar.audio
SUMMARY:FESTvault vol. I
DESCRIPTION:
URL:https://redstar.audio/evento/festvault-vol-i/
LOCATION:Red Star Studios\, Rua Teodoro Sampaio 512\, São Paulo\, São Paulo\, 05406-000\, Brasil
CATEGORIES:RedStar
ATTACH;FMTTYPE=image/jpeg:https://redstar.audio/wp-content/uploads/2024/12/7-12.jpg
END:VEVENT
BEGIN:VEVENT
DTSTART;TZID=America/Sao_Paulo:20241201T170000
DTEND;TZID=America/Sao_Paulo:20241201T233000
DTSTAMP:20260425T104114
CREATED:20241128T145704Z
LAST-MODIFIED:20241128T145704Z
UID:4435-1733072400-1733095800@redstar.audio
SUMMARY:Aniversário de 50 anos do Popó
DESCRIPTION:
URL:https://redstar.audio/evento/aniversario-de-50-anos-do-popo/
LOCATION:Red Star Studios\, Rua Teodoro Sampaio 512\, São Paulo\, São Paulo\, 05406-000\, Brasil
CATEGORIES:RedStar
ATTACH;FMTTYPE=image/jpeg:https://redstar.audio/wp-content/uploads/2024/11/Feed-Aniver-Popo.jpg
END:VEVENT
BEGIN:VEVENT
DTSTART;TZID=America/Sao_Paulo:20241130T190000
DTEND;TZID=America/Sao_Paulo:20241130T233000
DTSTAMP:20260425T104114
CREATED:20241129T212459Z
LAST-MODIFIED:20241129T212459Z
UID:4443-1732993200-1733009400@redstar.audio
SUMMARY:Tears of Rock - Comemoração de 5 anos
DESCRIPTION:
URL:https://redstar.audio/evento/tears-of-rock-comemoracao-de-5-anos/
LOCATION:Red Star Studios\, Rua Teodoro Sampaio 512\, São Paulo\, São Paulo\, 05406-000\, Brasil
CATEGORIES:RedStar
ATTACH;FMTTYPE=image/jpeg:https://redstar.audio/wp-content/uploads/2024/11/WhatsApp-Image-2024-11-29-at-18.15.06.jpeg
END:VEVENT
BEGIN:VEVENT
DTSTART;TZID=America/Sao_Paulo:20241129T200000
DTEND;TZID=America/Sao_Paulo:20241129T233000
DTSTAMP:20260425T104114
CREATED:20241129T144523Z
LAST-MODIFIED:20241129T144557Z
UID:4439-1732910400-1732923000@redstar.audio
SUMMARY:Parsec - Pocket show no Red Star
DESCRIPTION:
URL:https://redstar.audio/evento/parsec-pocket-show-no-red-star/
LOCATION:Red Star Studios\, Rua Teodoro Sampaio 512\, São Paulo\, São Paulo\, 05406-000\, Brasil
CATEGORIES:RedStar
ATTACH;FMTTYPE=image/jpeg:https://redstar.audio/wp-content/uploads/2024/11/Parsec-flyer.jpg
END:VEVENT
BEGIN:VEVENT
DTSTART;TZID=America/Sao_Paulo:20241123T190000
DTEND;TZID=America/Sao_Paulo:20241123T233000
DTSTAMP:20260425T104114
CREATED:20241105T200503Z
LAST-MODIFIED:20241105T200503Z
UID:4413-1732388400-1732404600@redstar.audio
SUMMARY:Punk Rock Sessions no Bomber Pub
DESCRIPTION:
URL:https://redstar.audio/evento/punk-rock-sessions-no-bomber-pub/
LOCATION:Bomber Pub\, Rua Teodoro Sampaio 468\, São Paulo\, São Paulo\, 05406-000\, Brasil
CATEGORIES:RedStar
ATTACH;FMTTYPE=image/jpeg:https://redstar.audio/wp-content/uploads/2024/11/1.jpg
END:VEVENT
END:VCALENDAR