BEGIN:VCALENDAR
VERSION:2.0
PRODID:-//Red Star Studios - ECPv6.15.20//NONSGML v1.0//EN
CALSCALE:GREGORIAN
METHOD:PUBLISH
X-ORIGINAL-URL:https://redstar.audio
X-WR-CALDESC:Eventos para Red Star Studios
REFRESH-INTERVAL;VALUE=DURATION:PT1H
X-Robots-Tag:noindex
X-PUBLISHED-TTL:PT1H
BEGIN:VTIMEZONE
TZID:America/Sao_Paulo
BEGIN:STANDARD
TZOFFSETFROM:-0300
TZOFFSETTO:-0300
TZNAME:-03
DTSTART:20250101T000000
END:STANDARD
END:VTIMEZONE
BEGIN:VEVENT
DTSTART;TZID=America/Sao_Paulo:20260117T190000
DTEND;TZID=America/Sao_Paulo:20260117T230000
DTSTAMP:20260421T153927
CREATED:20251217T205356Z
LAST-MODIFIED:20260112T190736Z
UID:10111-1768676400-1768690800@redstar.audio
SUMMARY:The Fuckers Fest - Edição SP
DESCRIPTION:
URL:https://redstar.audio/evento/the-fuckers-fest-edicao-sp/
LOCATION:Red Star Studios\, Rua Teodoro Sampaio 512\, São Paulo\, São Paulo\, 05406-000\, Brasil
CATEGORIES:RedStar
ATTACH;FMTTYPE=image/jpeg:https://redstar.audio/wp-content/uploads/2025/12/1-4.jpg
END:VEVENT
BEGIN:VEVENT
DTSTART;TZID=America/Sao_Paulo:20260117T200000
DTEND;TZID=America/Sao_Paulo:20260117T233000
DTSTAMP:20260421T153927
CREATED:20260106T203458Z
LAST-MODIFIED:20260106T203458Z
UID:10123-1768680000-1768692600@redstar.audio
SUMMARY:New City Rockers - Pocket Show
DESCRIPTION:
URL:https://redstar.audio/evento/new-city-rockers-pocket-show/
LOCATION:Red Star Studios\, Rua Teodoro Sampaio 462\, São Paulo\, SP\, 05406-000\, Brasil
CATEGORIES:RedStar
ATTACH;FMTTYPE=image/jpeg:https://redstar.audio/wp-content/uploads/2026/01/1a.jpeg
END:VEVENT
END:VCALENDAR