BEGIN:VCALENDAR
VERSION:2.0
PRODID:-//Red Star Studios - ECPv6.15.20//NONSGML v1.0//EN
CALSCALE:GREGORIAN
METHOD:PUBLISH
X-ORIGINAL-URL:https://redstar.audio
X-WR-CALDESC:Eventos para Red Star Studios
REFRESH-INTERVAL;VALUE=DURATION:PT1H
X-Robots-Tag:noindex
X-PUBLISHED-TTL:PT1H
BEGIN:VTIMEZONE
TZID:America/Sao_Paulo
BEGIN:STANDARD
TZOFFSETFROM:-0300
TZOFFSETTO:-0300
TZNAME:-03
DTSTART:20240101T000000
END:STANDARD
END:VTIMEZONE
BEGIN:VEVENT
DTSTART;TZID=America/Sao_Paulo:20251012T160000
DTEND;TZID=America/Sao_Paulo:20251012T220000
DTSTAMP:20260421T203554
CREATED:20250919T004001Z
LAST-MODIFIED:20251002T184136Z
UID:9586-1760284800-1760306400@redstar.audio
SUMMARY:Sagrados Anônimos\, Kabeça Cheia & Calvin Voichicoski e Pelocurto
DESCRIPTION:
URL:https://redstar.audio/evento/sagrados-anonimos-echo-up-stairs-calvin-voichicoski-e-pelocurto/
LOCATION:Red Star Studios\, Rua Teodoro Sampaio 512\, São Paulo\, São Paulo\, 05406-000\, Brasil
CATEGORIES:RedStar
ATTACH;FMTTYPE=image/jpeg:https://redstar.audio/wp-content/uploads/2025/09/1a.jpeg
END:VEVENT
END:VCALENDAR