BEGIN:VCALENDAR
VERSION:2.0
PRODID:-//Red Star Studios - ECPv6.15.20//NONSGML v1.0//EN
CALSCALE:GREGORIAN
METHOD:PUBLISH
X-ORIGINAL-URL:https://redstar.audio
X-WR-CALDESC:Eventos para Red Star Studios
REFRESH-INTERVAL;VALUE=DURATION:PT1H
X-Robots-Tag:noindex
X-PUBLISHED-TTL:PT1H
BEGIN:VTIMEZONE
TZID:America/Sao_Paulo
BEGIN:STANDARD
TZOFFSETFROM:-0300
TZOFFSETTO:-0300
TZNAME:-03
DTSTART:20240101T000000
END:STANDARD
END:VTIMEZONE
BEGIN:VEVENT
DTSTART;TZID=America/Sao_Paulo:20251203T200000
DTEND;TZID=America/Sao_Paulo:20251203T233000
DTSTAMP:20260421T154336
CREATED:20251127T162114Z
LAST-MODIFIED:20251127T162147Z
UID:10069-1764792000-1764804600@redstar.audio
SUMMARY:Kryour & DVRK
DESCRIPTION:
URL:https://redstar.audio/evento/kryour-dvrk/
LOCATION:Red Star Studios\, Rua Teodoro Sampaio 512\, São Paulo\, São Paulo\, 05406-000\, Brasil
CATEGORIES:RedStar
ATTACH;FMTTYPE=image/jpeg:https://redstar.audio/wp-content/uploads/2025/11/DVRK.jpg
END:VEVENT
BEGIN:VEVENT
DTSTART;TZID=America/Sao_Paulo:20251204T200000
DTEND;TZID=America/Sao_Paulo:20251204T233000
DTSTAMP:20260421T154336
CREATED:20250929T184754Z
LAST-MODIFIED:20250929T184754Z
UID:9604-1764878400-1764891000@redstar.audio
SUMMARY:OPEN YOUR MIND - Metal Festival
DESCRIPTION:
URL:https://redstar.audio/evento/open-your-mind-metal-festival/
LOCATION:Red Star Studios\, Rua Teodoro Sampaio 512\, São Paulo\, São Paulo\, 05406-000\, Brasil
CATEGORIES:RedStar
ATTACH;FMTTYPE=image/jpeg:https://redstar.audio/wp-content/uploads/2025/09/1-2.jpeg
END:VEVENT
BEGIN:VEVENT
DTSTART;TZID=America/Sao_Paulo:20251205T190000
DTEND;TZID=America/Sao_Paulo:20251205T233000
DTSTAMP:20260421T154336
CREATED:20251027T183726Z
LAST-MODIFIED:20251027T184819Z
UID:9744-1764961200-1764977400@redstar.audio
SUMMARY:Latina Shuffle - Show de estréia
DESCRIPTION:
URL:https://redstar.audio/evento/latina-shuffle-show-de-estreia/
LOCATION:Red Star Studios\, Rua Teodoro Sampaio 512\, São Paulo\, São Paulo\, 05406-000\, Brasil
CATEGORIES:RedStar
ATTACH;FMTTYPE=image/jpeg:https://redstar.audio/wp-content/uploads/2025/10/1-4.jpeg
END:VEVENT
BEGIN:VEVENT
DTSTART;TZID=America/Sao_Paulo:20251206T190000
DTEND;TZID=America/Sao_Paulo:20251206T233000
DTSTAMP:20260421T154336
CREATED:20250706T173423Z
LAST-MODIFIED:20251009T131442Z
UID:8781-1765047600-1765063800@redstar.audio
SUMMARY:Serenata Diabólica
DESCRIPTION:
URL:https://redstar.audio/evento/serenata-diabolica/
LOCATION:Red Star Studios\, Rua Teodoro Sampaio 512\, São Paulo\, São Paulo\, 05406-000\, Brasil
CATEGORIES:RedStar
ATTACH;FMTTYPE=image/jpeg:https://redstar.audio/wp-content/uploads/2025/07/1-2.jpg
END:VEVENT
BEGIN:VEVENT
DTSTART;TZID=America/Sao_Paulo:20251207T180000
DTEND;TZID=America/Sao_Paulo:20251207T233000
DTSTAMP:20260421T154336
CREATED:20251111T143306Z
LAST-MODIFIED:20251111T211133Z
UID:9826-1765130400-1765150200@redstar.audio
SUMMARY:Odio Social - 25 Anos
DESCRIPTION:
URL:https://redstar.audio/evento/odio-social-25-anos/
LOCATION:Red Star Studios\, Rua Teodoro Sampaio 512\, São Paulo\, São Paulo\, 05406-000\, Brasil
CATEGORIES:RedStar
ATTACH;FMTTYPE=image/jpeg:https://redstar.audio/wp-content/uploads/2025/11/1-3.jpg
END:VEVENT
BEGIN:VEVENT
DTSTART;TZID=America/Sao_Paulo:20251211T200000
DTEND;TZID=America/Sao_Paulo:20251211T233000
DTSTAMP:20260421T154336
CREATED:20251104T162358Z
LAST-MODIFIED:20251104T162358Z
UID:9808-1765483200-1765495800@redstar.audio
SUMMARY:Violeta De Outono
DESCRIPTION:
URL:https://redstar.audio/evento/violeta-de-outono/
LOCATION:Red Star Studios\, Rua Teodoro Sampaio 512\, São Paulo\, São Paulo\, 05406-000\, Brasil
CATEGORIES:RedStar
ATTACH;FMTTYPE=image/jpeg:https://redstar.audio/wp-content/uploads/2025/11/1.jpg
END:VEVENT
BEGIN:VEVENT
DTSTART;TZID=America/Sao_Paulo:20251213T140000
DTEND;TZID=America/Sao_Paulo:20251213T190000
DTSTAMP:20260421T154336
CREATED:20251208T185457Z
LAST-MODIFIED:20251208T185457Z
UID:10089-1765634400-1765652400@redstar.audio
SUMMARY:Vlad 50 Anos - Bootleg & amigos
DESCRIPTION:
URL:https://redstar.audio/evento/vlad-50-anos-bootleg-amigos/
LOCATION:Red Star Studios\, Rua Teodoro Sampaio 512\, São Paulo\, São Paulo\, 05406-000\, Brasil
CATEGORIES:RedStar
ATTACH;FMTTYPE=image/jpeg:https://redstar.audio/wp-content/uploads/2025/12/1a.jpg
END:VEVENT
BEGIN:VEVENT
DTSTART;TZID=America/Sao_Paulo:20251213T190000
DTEND;TZID=America/Sao_Paulo:20251213T233000
DTSTAMP:20260421T154336
CREATED:20251027T155336Z
LAST-MODIFIED:20251027T155336Z
UID:9741-1765652400-1765668600@redstar.audio
SUMMARY:Heavy With Friends - Metal Jam
DESCRIPTION:
URL:https://redstar.audio/evento/heavy-with-friends-metal-jam/
LOCATION:Red Star Studios\, Rua Teodoro Sampaio 512\, São Paulo\, São Paulo\, 05406-000\, Brasil
CATEGORIES:RedStar
ATTACH;FMTTYPE=image/jpeg:https://redstar.audio/wp-content/uploads/2025/10/1-7.jpg
END:VEVENT
BEGIN:VEVENT
DTSTART;TZID=America/Sao_Paulo:20251217T190000
DTEND;TZID=America/Sao_Paulo:20251217T233000
DTSTAMP:20260421T154336
CREATED:20251108T143319Z
LAST-MODIFIED:20251108T143319Z
UID:9819-1765998000-1766014200@redstar.audio
SUMMARY:Isnard
DESCRIPTION:
URL:https://redstar.audio/evento/isnard/
LOCATION:Red Star Studios\, Rua Teodoro Sampaio 512\, São Paulo\, São Paulo\, 05406-000\, Brasil
CATEGORIES:RedStar
ATTACH;FMTTYPE=image/jpeg:https://redstar.audio/wp-content/uploads/2025/11/1-2.jpg
END:VEVENT
BEGIN:VEVENT
DTSTART;TZID=America/Sao_Paulo:20251220T100000
DTEND;TZID=America/Sao_Paulo:20251220T120000
DTSTAMP:20260421T154336
CREATED:20251215T125712Z
LAST-MODIFIED:20251215T125712Z
UID:10092-1766224800-1766232000@redstar.audio
SUMMARY:Prática de Conjunto de Saxofones
DESCRIPTION:
URL:https://redstar.audio/evento/pratica-de-conjunto-de-saxofones/
LOCATION:Red Star Studios\, Rua Teodoro Sampaio 462\, São Paulo\, SP\, 05406-000\, Brasil
CATEGORIES:RedStar
ATTACH;FMTTYPE=image/jpeg:https://redstar.audio/wp-content/uploads/2025/12/1A-1.jpg
END:VEVENT
END:VCALENDAR