BEGIN:VCALENDAR
VERSION:2.0
PRODID:-//Red Star Studios - ECPv6.15.20//NONSGML v1.0//EN
CALSCALE:GREGORIAN
METHOD:PUBLISH
X-ORIGINAL-URL:https://redstar.audio
X-WR-CALDESC:Eventos para Red Star Studios
REFRESH-INTERVAL;VALUE=DURATION:PT1H
X-Robots-Tag:noindex
X-PUBLISHED-TTL:PT1H
BEGIN:VTIMEZONE
TZID:America/Sao_Paulo
BEGIN:STANDARD
TZOFFSETFROM:-0300
TZOFFSETTO:-0300
TZNAME:-03
DTSTART:20240101T000000
END:STANDARD
END:VTIMEZONE
BEGIN:VEVENT
DTSTART;TZID=America/Sao_Paulo:20250704T190000
DTEND;TZID=America/Sao_Paulo:20250704T230000
DTSTAMP:20260421T234545
CREATED:20250529T225444Z
LAST-MODIFIED:20250530T125909Z
UID:8609-1751655600-1751670000@redstar.audio
SUMMARY:Gritando H.C. - Libertariamente
DESCRIPTION:
URL:https://redstar.audio/evento/gritando-h-c-libertar-a-mente/
LOCATION:Red Star Studios\, Rua Teodoro Sampaio 512\, São Paulo\, São Paulo\, 05406-000\, Brasil
CATEGORIES:RedStar
ATTACH;FMTTYPE=image/jpeg:https://redstar.audio/wp-content/uploads/2025/05/1-5.jpg
END:VEVENT
BEGIN:VEVENT
DTSTART;TZID=America/Sao_Paulo:20250705T200000
DTEND;TZID=America/Sao_Paulo:20250705T230000
DTSTAMP:20260421T234545
CREATED:20250408T161209Z
LAST-MODIFIED:20250606T144255Z
UID:6385-1751745600-1751756400@redstar.audio
SUMMARY:King Paimon
DESCRIPTION:
URL:https://redstar.audio/evento/king-paimon/
LOCATION:Red Star Studios\, Rua Teodoro Sampaio 512\, São Paulo\, São Paulo\, 05406-000\, Brasil
CATEGORIES:RedStar
ATTACH;FMTTYPE=image/jpeg:https://redstar.audio/wp-content/uploads/2025/04/1-4.jpg
END:VEVENT
BEGIN:VEVENT
DTSTART;TZID=America/Sao_Paulo:20250705T200000
DTEND;TZID=America/Sao_Paulo:20250705T233000
DTSTAMP:20260421T234545
CREATED:20250609T181532Z
LAST-MODIFIED:20250609T181857Z
UID:8683-1751745600-1751758200@redstar.audio
SUMMARY:O extraordinário Bailinho dAORa
DESCRIPTION:
URL:https://redstar.audio/evento/o-extraordinario-bailinho-daora/
LOCATION:Bomber Pub\, Rua Teodoro Sampaio 468\, São Paulo\, São Paulo\, 05406-000\, Brasil
CATEGORIES:RedStar
ATTACH;FMTTYPE=image/jpeg:https://redstar.audio/wp-content/uploads/2025/06/AOR-Bomber.jpg
END:VEVENT
BEGIN:VEVENT
DTSTART;TZID=America/Sao_Paulo:20250713T193000
DTEND;TZID=America/Sao_Paulo:20250713T220000
DTSTAMP:20260421T234545
CREATED:20250708T200452Z
LAST-MODIFIED:20250708T200452Z
UID:8790-1752435000-1752444000@redstar.audio
SUMMARY:A Banda dos Animais
DESCRIPTION:
URL:https://redstar.audio/evento/a-banda-dos-animais/
LOCATION:Red Star Studios\, Rua Teodoro Sampaio 512\, São Paulo\, São Paulo\, 05406-000\, Brasil
CATEGORIES:RedStar
ATTACH;FMTTYPE=image/jpeg:https://redstar.audio/wp-content/uploads/2025/07/1-3.jpg
END:VEVENT
BEGIN:VEVENT
DTSTART;TZID=America/Sao_Paulo:20250718T193000
DTEND;TZID=America/Sao_Paulo:20250718T233000
DTSTAMP:20260421T234545
CREATED:20250702T160117Z
LAST-MODIFIED:20250702T160117Z
UID:8755-1752867000-1752881400@redstar.audio
SUMMARY:La Banda 2025 - Aniversário Marcelo Guarnieri
DESCRIPTION:
URL:https://redstar.audio/evento/la-banda-2025-aniversario-marcelo-guarnieri/
LOCATION:Red Star Studios\, Rua Teodoro Sampaio 512\, São Paulo\, São Paulo\, 05406-000\, Brasil
CATEGORIES:RedStar
ATTACH;FMTTYPE=image/jpeg:https://redstar.audio/wp-content/uploads/2025/07/1-1.jpg
END:VEVENT
BEGIN:VEVENT
DTSTART;TZID=America/Sao_Paulo:20250719T190000
DTEND;TZID=America/Sao_Paulo:20250719T230000
DTSTAMP:20260421T234545
CREATED:20250529T125213Z
LAST-MODIFIED:20250529T125213Z
UID:8601-1752951600-1752966000@redstar.audio
SUMMARY:VOZES EM FÚRIA FEST
DESCRIPTION:
URL:https://redstar.audio/evento/vozes-em-furia-fest/
LOCATION:Red Star Studios\, Rua Teodoro Sampaio 512\, São Paulo\, São Paulo\, 05406-000\, Brasil
CATEGORIES:RedStar
ATTACH;FMTTYPE=image/jpeg:https://redstar.audio/wp-content/uploads/2025/05/1.jpeg
END:VEVENT
BEGIN:VEVENT
DTSTART;TZID=America/Sao_Paulo:20250720T180000
DTEND;TZID=America/Sao_Paulo:20250720T220000
DTSTAMP:20260421T234545
CREATED:20250715T130923Z
LAST-MODIFIED:20250715T130923Z
UID:8825-1753034400-1753048800@redstar.audio
SUMMARY:DARON - Gravação ao vivo do disco Desgarrado
DESCRIPTION:
URL:https://redstar.audio/evento/daron-gravacao-ao-vivo-do-disco-desgarrado/
LOCATION:Red Star Studios\, Rua Teodoro Sampaio 512\, São Paulo\, São Paulo\, 05406-000\, Brasil
CATEGORIES:RedStar
ATTACH;FMTTYPE=image/jpeg:https://redstar.audio/wp-content/uploads/2025/07/1-6.jpg
END:VEVENT
BEGIN:VEVENT
DTSTART;TZID=America/Sao_Paulo:20250725T200000
DTEND;TZID=America/Sao_Paulo:20250725T233000
DTSTAMP:20260421T234545
CREATED:20250710T150814Z
LAST-MODIFIED:20250721T152643Z
UID:8815-1753473600-1753486200@redstar.audio
SUMMARY:Uma Sexta de Rock com Simon Abbud\, Alex Jandovi & Eric Be
DESCRIPTION:
URL:https://redstar.audio/evento/uma-sexta-de-rock-com-simon-abbud-bia-mendes-eric-be/
LOCATION:Red Star Studios\, Rua Teodoro Sampaio 512\, São Paulo\, São Paulo\, 05406-000\, Brasil
CATEGORIES:RedStar
ATTACH;FMTTYPE=image/jpeg:https://redstar.audio/wp-content/uploads/2025/07/1b.jpg
END:VEVENT
END:VCALENDAR