BEGIN:VCALENDAR
VERSION:2.0
PRODID:-//Red Star Studios - ECPv6.15.20//NONSGML v1.0//EN
CALSCALE:GREGORIAN
METHOD:PUBLISH
X-WR-CALNAME:Red Star Studios
X-ORIGINAL-URL:https://redstar.audio
X-WR-CALDESC:Eventos para Red Star Studios
REFRESH-INTERVAL;VALUE=DURATION:PT1H
X-Robots-Tag:noindex
X-PUBLISHED-TTL:PT1H
BEGIN:VTIMEZONE
TZID:America/Sao_Paulo
BEGIN:STANDARD
TZOFFSETFROM:-0300
TZOFFSETTO:-0300
TZNAME:-03
DTSTART:20230101T000000
END:STANDARD
END:VTIMEZONE
BEGIN:VEVENT
DTSTART;TZID=America/Sao_Paulo:20240901T180000
DTEND;TZID=America/Sao_Paulo:20240901T230000
DTSTAMP:20260422T155834
CREATED:20240726T232724Z
LAST-MODIFIED:20240726T232803Z
UID:3586-1725213600-1725231600@redstar.audio
SUMMARY:Undertime / Ego Absence
DESCRIPTION:Apresentando as bandas:\nUndertime\nEgo Absence \nIngressos pelo Whatsapp: (11) 98015-5519
URL:https://redstar.audio/evento/undertime-ego-absence/
LOCATION:Red Star Studios\, Rua Teodoro Sampaio 512\, São Paulo\, São Paulo\, 05406-000\, Brasil
CATEGORIES:RedStar
ATTACH;FMTTYPE=image/jpeg:https://redstar.audio/wp-content/uploads/2024/07/461eb436-eab6-41cd-abd1-77e5836c9e09.jpg
END:VEVENT
BEGIN:VEVENT
DTSTART;TZID=America/Sao_Paulo:20240906T200000
DTEND;TZID=America/Sao_Paulo:20240906T233000
DTSTAMP:20260422T155834
CREATED:20240823T141429Z
LAST-MODIFIED:20240823T141429Z
UID:3758-1725652800-1725665400@redstar.audio
SUMMARY:Rock na Teodoro - Lomo Plateado & O Espelho do Zé
DESCRIPTION:Lomo Plateado \nO Espelho do Zé \n\nCompre seu ingresso pelo Sympla: \n \nhttps://www.sympla.com.br/evento/lomo-plateado-o-espelho-do-ze/2608648
URL:https://redstar.audio/evento/rock-na-teodoro-lomo-plateado-o-espelho-do-ze/
LOCATION:Red Star Studios\, Rua Teodoro Sampaio 512\, São Paulo\, São Paulo\, 05406-000\, Brasil
CATEGORIES:RedStar
ATTACH;FMTTYPE=image/jpeg:https://redstar.audio/wp-content/uploads/2024/08/Stories-Lomo.jpg
END:VEVENT
BEGIN:VEVENT
DTSTART;TZID=America/Sao_Paulo:20240913T200000
DTEND;TZID=America/Sao_Paulo:20240913T233000
DTSTAMP:20260422T155834
CREATED:20240823T203032Z
LAST-MODIFIED:20240823T203218Z
UID:3761-1726257600-1726270200@redstar.audio
SUMMARY:Rock Night no Red Star
DESCRIPTION:Bandas:\nZen Vergonha \nMidnight Cake \n\nCompre seu ingresso pelo Sympla: \n \nhttps://www.sympla.com.br/evento/rock-night-no-red-star-studios/2603561
URL:https://redstar.audio/evento/rock-night-no-red-star/
LOCATION:Red Star Studios\, Rua Teodoro Sampaio 512\, São Paulo\, São Paulo\, 05406-000\, Brasil
CATEGORIES:RedStar
ATTACH;FMTTYPE=image/jpeg:https://redstar.audio/wp-content/uploads/2024/08/13-09.jpeg
END:VEVENT
BEGIN:VEVENT
DTSTART;TZID=America/Sao_Paulo:20240914T170000
DTEND;TZID=America/Sao_Paulo:20240914T220000
DTSTAMP:20260422T155834
CREATED:20240909T122826Z
LAST-MODIFIED:20240909T122826Z
UID:3884-1726333200-1726351200@redstar.audio
SUMMARY:Thrash Disconcert II
DESCRIPTION:Apresentando as bandas:\nTosco \nTrendkill Inc. \nFaces Of Death
URL:https://redstar.audio/evento/thrash-disconcert-ii/
LOCATION:Red Star Studios\, Rua Teodoro Sampaio 512\, São Paulo\, São Paulo\, 05406-000\, Brasil
CATEGORIES:RedStar
ATTACH;FMTTYPE=image/jpeg:https://redstar.audio/wp-content/uploads/2024/09/1-1.jpg
END:VEVENT
BEGIN:VEVENT
DTSTART;TZID=America/Sao_Paulo:20240920T200000
DTEND;TZID=America/Sao_Paulo:20240920T230000
DTSTAMP:20260422T155834
CREATED:20240718T132848Z
LAST-MODIFIED:20240917T132324Z
UID:3559-1726862400-1726873200@redstar.audio
SUMMARY:PUNKABILLY 2024
DESCRIPTION:PUNKABILLY 2024 \nASTEROIDES TRIO e convidados especiais: \n– The Edwoods\n– Ronaldo Passos Trio\n– Thiago DJ \n\nCompre seu ingresso pelo Sympla: \n \nhttps://www.sympla.com.br/evento/punkabilly-2024/2557949
URL:https://redstar.audio/evento/punkabilly-2024/
LOCATION:Red Star Studios\, Rua Teodoro Sampaio 512\, São Paulo\, São Paulo\, 05406-000\, Brasil
CATEGORIES:RedStar
ATTACH;FMTTYPE=image/jpeg:https://redstar.audio/wp-content/uploads/2024/07/WhatsApp-Image-2024-07-18-at-09.58.00.jpeg
END:VEVENT
BEGIN:VEVENT
DTSTART;TZID=America/Sao_Paulo:20240921T160000
DTEND;TZID=America/Sao_Paulo:20240921T190000
DTSTAMP:20260422T155834
CREATED:20240904T193750Z
LAST-MODIFIED:20240904T200406Z
UID:3870-1726934400-1726945200@redstar.audio
SUMMARY:João e o Verbo
DESCRIPTION:Lançamento do álbum \nEntrada gratuita
URL:https://redstar.audio/evento/joao-e-o-verbo/
LOCATION:Red Star Studios\, Rua Teodoro Sampaio 512\, São Paulo\, São Paulo\, 05406-000\, Brasil
CATEGORIES:RedStar
ATTACH;FMTTYPE=image/jpeg:https://redstar.audio/wp-content/uploads/2024/09/WhatsApp-Image-2024-09-04-at-12.54.53.jpeg
END:VEVENT
BEGIN:VEVENT
DTSTART;TZID=America/Sao_Paulo:20240921T200000
DTEND;TZID=America/Sao_Paulo:20240921T233000
DTSTAMP:20260422T155834
CREATED:20240524T125254Z
LAST-MODIFIED:20240711T213431Z
UID:2791-1726948800-1726961400@redstar.audio
SUMMARY:Scória - 40 anos
DESCRIPTION:Comemoração de 40 anos da banda. \nParticipação das bandas:\nPacto Social\nPat e Os Condenados\nDQ\nSem Restrição\nPós Guerra
URL:https://redstar.audio/evento/redstar-7/
LOCATION:Red Star Studios\, Rua Teodoro Sampaio 512\, São Paulo\, São Paulo\, 05406-000\, Brasil
CATEGORIES:RedStar
ATTACH;FMTTYPE=image/jpeg:https://redstar.audio/wp-content/uploads/2024/05/WhatsApp-Image-2024-05-23-at-16.27.06.jpeg
ORGANIZER;CN="Jeferson Bem":MAILTO:email@email.com
END:VEVENT
BEGIN:VEVENT
DTSTART;TZID=America/Sao_Paulo:20240922T190000
DTEND;TZID=America/Sao_Paulo:20240922T233000
DTSTAMP:20260422T155834
CREATED:20240816T004247Z
LAST-MODIFIED:20240921T224630Z
UID:3677-1727031600-1727047800@redstar.audio
SUMMARY:Red Star Sessions - Devotos
DESCRIPTION:Dia 22 de setembro às 19 horas vai rolar o show da @devotosoficial no Red Star Studios\, em SP! \nA banda vem diretamente do Recife para o palco da Sala A – JBL do Red Star para inaugurar o projeto #RedStarSessions. \nEssa é a primeira de uma série de shows com as bandas clássicas da música pesada nacional\, que serão registrados ao vivo e lançados vinil\, em uma edição especial! \nVem fazer parte desse pedaço da história e cola com a gente! \nIngressos a partir de R$30\,00 já disponíveis pelo Sympla! \n#RedStarStudios #MúsicaIndependente #PunkRock #Hardcore #Estúdio
URL:https://redstar.audio/evento/red-star-sessions-devotos/
LOCATION:Red Star Studios\, Rua Teodoro Sampaio 512\, São Paulo\, São Paulo\, 05406-000\, Brasil
CATEGORIES:RedStar
ATTACH;FMTTYPE=image/jpeg:https://redstar.audio/wp-content/uploads/2024/08/Stories-Devotos-RSS.jpg
END:VEVENT
BEGIN:VEVENT
DTSTART;TZID=America/Sao_Paulo:20240926T193000
DTEND;TZID=America/Sao_Paulo:20240926T233000
DTSTAMP:20260422T155834
CREATED:20240904T195522Z
LAST-MODIFIED:20240904T195522Z
UID:3876-1727379000-1727393400@redstar.audio
SUMMARY:Catarina Von Bora - Turnê Columbário
DESCRIPTION:Catarina Von Bora em São Paulo \nTurnê Columbário \n\n  \n \nhttps://www.e-inscricao.com/cvb/columbariosp
URL:https://redstar.audio/evento/catarina-von-bora-turne-columbario/
LOCATION:Red Star Studios\, Rua Teodoro Sampaio 512\, São Paulo\, São Paulo\, 05406-000\, Brasil
CATEGORIES:RedStar
ATTACH;FMTTYPE=image/jpeg:https://redstar.audio/wp-content/uploads/2024/09/WhatsApp-Image-2024-09-04-at-12.55.02-1.jpeg
END:VEVENT
BEGIN:VEVENT
DTSTART;TZID=America/Sao_Paulo:20240929T163000
DTEND;TZID=America/Sao_Paulo:20240929T183000
DTSTAMP:20260422T155834
CREATED:20240912T204249Z
LAST-MODIFIED:20240921T104104Z
UID:3902-1727627400-1727634600@redstar.audio
SUMMARY:Show de estréia da banda IASBECK
DESCRIPTION:Show de estréia da banda IASBECK \n\n 
URL:https://redstar.audio/evento/show-de-estreia-da-banda-iasbeck/
LOCATION:Red Star Studios\, Rua Teodoro Sampaio 512\, São Paulo\, São Paulo\, 05406-000\, Brasil
CATEGORIES:RedStar
ATTACH;FMTTYPE=image/jpeg:https://redstar.audio/wp-content/uploads/2024/09/flyer.jpg
END:VEVENT
END:VCALENDAR