BEGIN:VCALENDAR
VERSION:2.0
PRODID:-//Red Star Studios - ECPv6.15.20//NONSGML v1.0//EN
CALSCALE:GREGORIAN
METHOD:PUBLISH
X-ORIGINAL-URL:https://redstar.audio
X-WR-CALDESC:Eventos para Red Star Studios
REFRESH-INTERVAL;VALUE=DURATION:PT1H
X-Robots-Tag:noindex
X-PUBLISHED-TTL:PT1H
BEGIN:VTIMEZONE
TZID:America/Sao_Paulo
BEGIN:STANDARD
TZOFFSETFROM:-0300
TZOFFSETTO:-0300
TZNAME:-03
DTSTART:20230101T000000
END:STANDARD
END:VTIMEZONE
BEGIN:VEVENT
DTSTART;TZID=America/Sao_Paulo:20240810T190000
DTEND;TZID=America/Sao_Paulo:20240810T233000
DTSTAMP:20260422T173419
CREATED:20240704T145508Z
LAST-MODIFIED:20240718T134452Z
UID:3331-1723316400-1723332600@redstar.audio
SUMMARY:Excluídos\, Drakula & Os Insociáveis
DESCRIPTION:Apresentando as bandas:\nExcluídos \nDrakula \nOs Insociáveis \n\nCompre seu ingresso pelo Sympla: \n \nhttps://www.sympla.com.br/excluidos–drakula–insociaveis__2549206
URL:https://redstar.audio/evento/excluidos-drakula-e-os-insociaveis/
LOCATION:Red Star Studios\, Rua Teodoro Sampaio 512\, São Paulo\, São Paulo\, 05406-000\, Brasil
CATEGORIES:RedStar
ATTACH;FMTTYPE=image/jpeg:https://redstar.audio/wp-content/uploads/2024/07/Excluidos.jpeg
END:VEVENT
BEGIN:VEVENT
DTSTART;TZID=America/Sao_Paulo:20240816T190000
DTEND;TZID=America/Sao_Paulo:20240816T230000
DTSTAMP:20260422T173419
CREATED:20240712T223851Z
LAST-MODIFIED:20240718T134110Z
UID:3488-1723834800-1723849200@redstar.audio
SUMMARY:Lost Liars - The Sun Tour
DESCRIPTION:The Sun Tour\n\nCompre seu ingresso pelo Sympla: \n \nhttps://www.sympla.com.br/evento/lost-liars-the-sun-tour-sao-paulo/2480692
URL:https://redstar.audio/evento/lost-liars/
LOCATION:Red Star Studios\, Rua Teodoro Sampaio 512\, São Paulo\, São Paulo\, 05406-000\, Brasil
CATEGORIES:RedStar
ATTACH;FMTTYPE=image/jpeg:https://redstar.audio/wp-content/uploads/2024/07/Sem-Titulo-1-1.jpg
END:VEVENT
BEGIN:VEVENT
DTSTART;TZID=America/Sao_Paulo:20240818T160000
DTEND;TZID=America/Sao_Paulo:20240818T180000
DTSTAMP:20260422T173419
CREATED:20240718T131838Z
LAST-MODIFIED:20240718T135437Z
UID:3555-1723996800-1724004000@redstar.audio
SUMMARY:Oficina de Criatividade com Inteligência Artificial
DESCRIPTION:Oficina de Criatividade com Inteligência Artificial\n\nCompre seu ingresso pelo Sympla: \n \nhttps://www.sympla.com.br/evento/oficina-de-criatividade-com-inteligencia-artificial/2557900
URL:https://redstar.audio/evento/oficina-de-criatividade-com-inteligencia-artificial/
LOCATION:Red Star Studios\, Rua Teodoro Sampaio 512\, São Paulo\, São Paulo\, 05406-000\, Brasil
CATEGORIES:RedStar
ATTACH;FMTTYPE=image/jpeg:https://redstar.audio/wp-content/uploads/2024/07/4e8215d8-e50f-460d-9149-2efc0f180456.jpg
END:VEVENT
BEGIN:VEVENT
DTSTART;TZID=America/Sao_Paulo:20240818T180000
DTEND;TZID=America/Sao_Paulo:20240818T230000
DTSTAMP:20260422T173419
CREATED:20240712T231432Z
LAST-MODIFIED:20240718T134216Z
UID:3501-1724004000-1724022000@redstar.audio
SUMMARY:Gig Do 1º Aniversário Da Feira Do Cachorro Louco
DESCRIPTION:Apresentando as bandas:\nGoma Elefante\nGritando HC \n\nCompre seu ingresso pelo Sympla: \n \nhttps://www.sympla.com.br/evento/feira-do-cachorro-loco/2521599
URL:https://redstar.audio/evento/a-gig-do-1o-aniversario-da-feira-do-cachorro-louco/
LOCATION:Red Star Studios\, Rua Teodoro Sampaio 512\, São Paulo\, São Paulo\, 05406-000\, Brasil
CATEGORIES:RedStar
ATTACH;FMTTYPE=image/jpeg:https://redstar.audio/wp-content/uploads/2024/06/Feed-18-8-2024.jpg
END:VEVENT
BEGIN:VEVENT
DTSTART;TZID=America/Sao_Paulo:20240823T200000
DTEND;TZID=America/Sao_Paulo:20240823T230000
DTSTAMP:20260422T173419
CREATED:20240718T130944Z
LAST-MODIFIED:20240718T134429Z
UID:3550-1724443200-1724454000@redstar.audio
SUMMARY:Apokalypsis - 50 Anos
DESCRIPTION:Apokalypsis – 50 Anos\n\nCompre seu ingresso pelo Sympla: \n \nhttps://www.sympla.com.br/evento/apokalypsis-50-anos/2557908
URL:https://redstar.audio/evento/apokalypsis-50-anos/
LOCATION:Red Star Studios\, Rua Teodoro Sampaio 512\, São Paulo\, São Paulo\, 05406-000\, Brasil
CATEGORIES:RedStar
ATTACH;FMTTYPE=image/jpeg:https://redstar.audio/wp-content/uploads/2024/07/Feed-Apokalypsis.jpg
END:VEVENT
BEGIN:VEVENT
DTSTART;TZID=America/Sao_Paulo:20240824T190000
DTEND;TZID=America/Sao_Paulo:20240824T233000
DTSTAMP:20260422T173419
CREATED:20240712T210430Z
LAST-MODIFIED:20240718T133820Z
UID:3472-1724526000-1724542200@redstar.audio
SUMMARY:Torture Squad
DESCRIPTION:Apresentando as bandas:\nTorture Squad\nInfamous Glory\nSiegrid Ingrid \n\nCompre seu ingresso pelo Sympla: \n \nhttps://www.sympla.com.br/evento/torture-squad-siegrid-ingrid-infamous-glory/2476722
URL:https://redstar.audio/evento/show-torture-squad/
LOCATION:Red Star Studios\, Rua Teodoro Sampaio 512\, São Paulo\, São Paulo\, 05406-000\, Brasil
CATEGORIES:RedStar
ATTACH;FMTTYPE=image/jpeg:https://redstar.audio/wp-content/uploads/2024/05/WhatsApp-Image-2024-05-21-at-17.18.53.jpeg
END:VEVENT
BEGIN:VEVENT
DTSTART;TZID=America/Sao_Paulo:20240827T160000
DTEND;TZID=America/Sao_Paulo:20240827T200000
DTSTAMP:20260422T173419
CREATED:20240816T000528Z
LAST-MODIFIED:20240816T000741Z
UID:3672-1724774400-1724788800@redstar.audio
SUMMARY:Pocket Show Istanbul Agop
DESCRIPTION:POCKET SHOW de apresentação da @istanbulagop 🇧🇷\nAquecimento para a @conectamusicaemercado ⚡️🔥 \nVenha conhecer as séries e linhas do prato turco artesanal #AgopCymbals
URL:https://redstar.audio/evento/pocket-show-agop-istanbul/
LOCATION:Red Star Studios\, Rua Teodoro Sampaio 512\, São Paulo\, São Paulo\, 05406-000\, Brasil
CATEGORIES:RedStar
ATTACH;FMTTYPE=image/jpeg:https://redstar.audio/wp-content/uploads/2024/08/Sem-Titulo-1.jpg
END:VEVENT
END:VCALENDAR