BEGIN:VCALENDAR
VERSION:2.0
PRODID:-//Red Star Studios - ECPv6.15.20//NONSGML v1.0//EN
CALSCALE:GREGORIAN
METHOD:PUBLISH
X-ORIGINAL-URL:https://redstar.audio
X-WR-CALDESC:Eventos para Red Star Studios
REFRESH-INTERVAL;VALUE=DURATION:PT1H
X-Robots-Tag:noindex
X-PUBLISHED-TTL:PT1H
BEGIN:VTIMEZONE
TZID:America/Sao_Paulo
BEGIN:STANDARD
TZOFFSETFROM:-0300
TZOFFSETTO:-0300
TZNAME:-03
DTSTART:20220101T000000
END:STANDARD
END:VTIMEZONE
BEGIN:VEVENT
DTSTART;TZID=America/Sao_Paulo:20230501T150000
DTEND;TZID=America/Sao_Paulo:20230501T150000
DTSTAMP:20260423T170335
CREATED:20230414T164527Z
LAST-MODIFIED:20240615T052507Z
UID:1727-1682953200-1682953200@redstar.audio
SUMMARY:Lixomania\, Scoria\, Pacto Social e Amnésia Coletiva
DESCRIPTION:
URL:https://redstar.audio/evento/lixomania-scoria-pacto-social-e-amnesia-coletiva/
LOCATION:São Paulo
CATEGORIES:RedStar
ATTACH;FMTTYPE=image/jpeg:https://redstar.audio/wp-content/uploads/2023/04/EC0E964B-2C64-4DA7-8354-4AD27CACB534.jpeg
END:VEVENT
BEGIN:VEVENT
DTSTART;TZID=America/Sao_Paulo:20230505T163000
DTEND;TZID=America/Sao_Paulo:20230505T203000
DTSTAMP:20260423T170335
CREATED:20230505T174529Z
LAST-MODIFIED:20240615T052507Z
UID:1866-1683304200-1683318600@redstar.audio
SUMMARY:RED STAR APRESENTA:
DESCRIPTION:
URL:https://redstar.audio/evento/red-star-apresenta-9/
LOCATION:Red Star Studios\, Rua Teodoro Sampaio 512\, São Paulo\, São Paulo\, 05406-000\, Brasil
CATEGORIES:RedStar
ATTACH;FMTTYPE=image/jpeg:https://redstar.audio/wp-content/uploads/2023/05/WhatsApp-Image-2023-05-05-at-11.40.16-1.jpeg
ORGANIZER;CN="Jeferson Bem":MAILTO:email@email.com
END:VEVENT
BEGIN:VEVENT
DTSTART;TZID=America/Sao_Paulo:20230506T160000
DTEND;TZID=America/Sao_Paulo:20230506T163000
DTSTAMP:20260423T170335
CREATED:20230322T231618Z
LAST-MODIFIED:20240615T052506Z
UID:1630-1683388800-1683390600@redstar.audio
SUMMARY:Show da banda CRAZYLAND
DESCRIPTION:
URL:https://redstar.audio/evento/show-da-banda-crazyland/
LOCATION:Red Star Studios\, Rua Teodoro Sampaio 512\, São Paulo\, São Paulo\, 05406-000\, Brasil
CATEGORIES:RedStar
ATTACH;FMTTYPE=image/jpeg:https://redstar.audio/wp-content/uploads/2023/03/WhatsApp-Image-2023-03-22-at-17.06.58.jpeg
ORGANIZER;CN="Jeferson Bem":MAILTO:email@email.com
END:VEVENT
BEGIN:VEVENT
DTSTART;TZID=America/Sao_Paulo:20230520T160000
DTEND;TZID=America/Sao_Paulo:20230520T160000
DTSTAMP:20260423T170335
CREATED:20230425T160635Z
LAST-MODIFIED:20240615T052451Z
UID:1753-1684598400-1684598400@redstar.audio
SUMMARY:RED STAR STUDIOS APRESENTA:
DESCRIPTION:
URL:https://redstar.audio/evento/red-star-studios-apresenta-3/
LOCATION:Red Star Studios\, Rua Teodoro Sampaio 512\, São Paulo\, São Paulo\, 05406-000\, Brasil
CATEGORIES:RedStar
ATTACH;FMTTYPE=image/jpeg:https://redstar.audio/wp-content/uploads/2023/04/WhatsApp-Image-2023-04-25-at-08.49.42.jpeg
ORGANIZER;CN="Jeferson Bem":MAILTO:email@email.com
END:VEVENT
BEGIN:VEVENT
DTSTART;TZID=America/Sao_Paulo:20230525T163000
DTEND;TZID=America/Sao_Paulo:20230525T163000
DTSTAMP:20260423T170335
CREATED:20230424T170732Z
LAST-MODIFIED:20240615T052450Z
UID:1748-1685032200-1685032200@redstar.audio
SUMMARY:RED STAR APRESENTA:
DESCRIPTION:
URL:https://redstar.audio/evento/red-star-apresenta-6/
LOCATION:Red Star Studios\, Rua Teodoro Sampaio 512\, São Paulo\, São Paulo\, 05406-000\, Brasil
CATEGORIES:RedStar
ATTACH;FMTTYPE=image/jpeg:https://redstar.audio/wp-content/uploads/2023/04/WhatsApp-Image-2023-04-24-at-11.04.14.jpeg
ORGANIZER;CN="Jeferson Bem":MAILTO:email@email.com
END:VEVENT
BEGIN:VEVENT
DTSTART;TZID=America/Sao_Paulo:20230531T170000
DTEND;TZID=America/Sao_Paulo:20230531T203000
DTSTAMP:20260423T170335
CREATED:20230502T205609Z
LAST-MODIFIED:20240615T052450Z
UID:1862-1685552400-1685565000@redstar.audio
SUMMARY:Red Star apresenta:
DESCRIPTION:
URL:https://redstar.audio/evento/red-star-apresenta-8/
LOCATION:Red Star Studios\, Rua Teodoro Sampaio 512\, São Paulo\, São Paulo\, 05406-000\, Brasil
CATEGORIES:RedStar
ATTACH;FMTTYPE=image/jpeg:https://redstar.audio/wp-content/uploads/2023/05/WhatsApp-Image-2023-05-02-at-08.23.22-1.jpeg
ORGANIZER;CN="Jeferson Bem":MAILTO:email@email.com
END:VEVENT
END:VCALENDAR