BEGIN:VCALENDAR
VERSION:2.0
PRODID:-//Red Star Studios - ECPv6.15.20//NONSGML v1.0//EN
CALSCALE:GREGORIAN
METHOD:PUBLISH
X-WR-CALNAME:Red Star Studios
X-ORIGINAL-URL:https://redstar.audio
X-WR-CALDESC:Eventos para Red Star Studios
REFRESH-INTERVAL;VALUE=DURATION:PT1H
X-Robots-Tag:noindex
X-PUBLISHED-TTL:PT1H
BEGIN:VTIMEZONE
TZID:America/Sao_Paulo
BEGIN:STANDARD
TZOFFSETFROM:-0300
TZOFFSETTO:-0300
TZNAME:-03
DTSTART:20220101T000000
END:STANDARD
END:VTIMEZONE
BEGIN:VEVENT
DTSTART;TZID=America/Sao_Paulo:20230302T163000
DTEND;TZID=America/Sao_Paulo:20230302T200000
DTSTAMP:20260423T200120
CREATED:20230207T220635Z
LAST-MODIFIED:20240615T052509Z
UID:1556-1677774600-1677787200@redstar.audio
SUMMARY:Red Star Apresenta:
DESCRIPTION:Rua Teodoro Sampaio 512 \nEntrada R$ 25\,00 \nA partir das 19:30h
URL:https://redstar.audio/evento/red-star-apresenta/
LOCATION:Red Star Studios\, Rua Teodoro Sampaio 512\, São Paulo\, São Paulo\, 05406-000\, Brasil
CATEGORIES:RedStar
ATTACH;FMTTYPE=image/jpeg:https://redstar.audio/wp-content/uploads/2023/02/WhatsApp-Image-2023-02-07-at-16.03.36.jpeg
ORGANIZER;CN="Jeferson Bem":MAILTO:email@email.com
END:VEVENT
BEGIN:VEVENT
DTSTART;TZID=America/Sao_Paulo:20230304T163000
DTEND;TZID=America/Sao_Paulo:20230304T200000
DTSTAMP:20260423T200120
CREATED:20230209T191708Z
LAST-MODIFIED:20240615T052509Z
UID:1560-1677947400-1677960000@redstar.audio
SUMMARY:RANGONES
DESCRIPTION:R$ 25\,00 antecipado\nR$ 30\,00 na porta
URL:https://redstar.audio/evento/rangones/
LOCATION:Red Star Studios\, Rua Teodoro Sampaio 512\, São Paulo\, São Paulo\, 05406-000\, Brasil
CATEGORIES:RedStar
ATTACH;FMTTYPE=image/jpeg:https://redstar.audio/wp-content/uploads/2023/02/WhatsApp-Image-2023-02-09-at-13.10.40.jpeg
ORGANIZER;CN="Jeferson Bem":MAILTO:email@email.com
END:VEVENT
BEGIN:VEVENT
DTSTART;TZID=America/Sao_Paulo:20230305T150000
DTEND;TZID=America/Sao_Paulo:20230305T203000
DTSTAMP:20260423T200120
CREATED:20230215T042102Z
LAST-MODIFIED:20240615T052509Z
UID:1568-1678028400-1678048200@redstar.audio
SUMMARY:ABERTURA DA CASA AS 18h
DESCRIPTION:
URL:https://redstar.audio/evento/abertura-da-casa-as-18h/
LOCATION:Red Star Studios\, Rua Teodoro Sampaio 512\, São Paulo\, São Paulo\, 05406-000\, Brasil
CATEGORIES:RedStar
ATTACH;FMTTYPE=image/jpeg:https://redstar.audio/wp-content/uploads/2023/02/WhatsApp-Image-2023-02-14-at-20.49.18.jpeg
ORGANIZER;CN="Jeferson Bem":MAILTO:email@email.com
END:VEVENT
BEGIN:VEVENT
DTSTART;TZID=America/Sao_Paulo:20230311T163000
DTEND;TZID=America/Sao_Paulo:20230311T203000
DTSTAMP:20260423T200120
CREATED:20230214T155113Z
LAST-MODIFIED:20240615T052509Z
UID:1564-1678552200-1678566600@redstar.audio
SUMMARY:RED STAR STUDIOS APRESENTA
DESCRIPTION:
URL:https://redstar.audio/evento/red-star-studios-apresenta/
LOCATION:Red Star Studios\, Rua Teodoro Sampaio 512\, São Paulo\, São Paulo\, 05406-000\, Brasil
CATEGORIES:RedStar
ATTACH;FMTTYPE=image/jpeg:https://redstar.audio/wp-content/uploads/2023/02/WhatsApp-Image-2023-02-14-at-06.32.12.jpeg
ORGANIZER;CN="Jeferson Bem":MAILTO:email@email.com
END:VEVENT
BEGIN:VEVENT
DTSTART;TZID=America/Sao_Paulo:20230317T160000
DTEND;TZID=America/Sao_Paulo:20230317T203000
DTSTAMP:20260423T200120
CREATED:20230316T004615Z
LAST-MODIFIED:20240615T052509Z
UID:1590-1679068800-1679085000@redstar.audio
SUMMARY:Kiss Club
DESCRIPTION:
URL:https://redstar.audio/evento/kiss-club-2/
LOCATION:Red Star Studios\, Rua Teodoro Sampaio 512\, São Paulo\, São Paulo\, 05406-000\, Brasil
CATEGORIES:RedStar
ATTACH;FMTTYPE=image/jpeg:https://redstar.audio/wp-content/uploads/2023/03/WhatsApp-Image-2023-03-15-at-14.10.47.jpeg
ORGANIZER;CN="Jeferson Bem":MAILTO:email@email.com
END:VEVENT
BEGIN:VEVENT
DTSTART;TZID=America/Sao_Paulo:20230318T160000
DTEND;TZID=America/Sao_Paulo:20230318T203000
DTSTAMP:20260423T200120
CREATED:20230127T041959Z
LAST-MODIFIED:20240615T052508Z
UID:1538-1679155200-1679171400@redstar.audio
SUMMARY:18 de março às 19h
DESCRIPTION:R$ 20\,00 antecipado\nR$ 30\,00 na porta\nRua Teodoro Sampaio 512
URL:https://redstar.audio/evento/18-de-marco-as-19h/
LOCATION:Red Star Studios\, Rua Teodoro Sampaio 512\, São Paulo\, São Paulo\, 05406-000\, Brasil
CATEGORIES:RedStar
ATTACH;FMTTYPE=image/jpeg:https://redstar.audio/wp-content/uploads/2023/01/WhatsApp-Image-2023-01-26-at-19.24.28.jpeg
ORGANIZER;CN="Jeferson Bem":MAILTO:email@email.com
END:VEVENT
BEGIN:VEVENT
DTSTART;TZID=America/Sao_Paulo:20230319T170000
DTEND;TZID=America/Sao_Paulo:20230319T170000
DTSTAMP:20260423T200120
CREATED:20230310T040503Z
LAST-MODIFIED:20240615T052508Z
UID:1580-1679245200-1679245200@redstar.audio
SUMMARY:Carmen
DESCRIPTION:
URL:https://redstar.audio/evento/carmen/
LOCATION:Red Star Studios\, Rua Teodoro Sampaio 512\, São Paulo\, São Paulo\, 05406-000\, Brasil
CATEGORIES:RedStar
ATTACH;FMTTYPE=image/jpeg:https://redstar.audio/wp-content/uploads/2023/03/WhatsApp-Image-2023-03-09-at-19.17.37.jpeg
ORGANIZER;CN="Jeferson Bem":MAILTO:email@email.com
END:VEVENT
BEGIN:VEVENT
DTSTART;TZID=America/Sao_Paulo:20230321T170000
DTEND;TZID=America/Sao_Paulo:20230321T170000
DTSTAMP:20260423T200120
CREATED:20230317T134222Z
LAST-MODIFIED:20240615T052508Z
UID:1601-1679418000-1679418000@redstar.audio
SUMMARY:Dupla Caipira de Reggae
DESCRIPTION:Show especial de comemoração de 15 anos.
URL:https://redstar.audio/evento/dupla-caipira-de-reggae/
LOCATION:São Paulo
CATEGORIES:RedStar
ATTACH;FMTTYPE=image/jpeg:https://redstar.audio/wp-content/uploads/2023/03/186FD49F-FC97-4E7C-BB56-14EE8EF85C56.jpeg
END:VEVENT
BEGIN:VEVENT
DTSTART;TZID=America/Sao_Paulo:20230322T160000
DTEND;TZID=America/Sao_Paulo:20230322T203000
DTSTAMP:20260423T200120
CREATED:20230321T211110Z
LAST-MODIFIED:20240615T052508Z
UID:1609-1679500800-1679517000@redstar.audio
SUMMARY:Mariutti Metal Fest 3
DESCRIPTION:Aniversário do Luís Mariutti.
URL:https://redstar.audio/evento/mariutti-metal-fest-3/
LOCATION:São Paulo
CATEGORIES:RedStar
ATTACH;FMTTYPE=image/jpeg:https://redstar.audio/wp-content/uploads/2023/03/91D93169-062E-4855-A3E9-BF06002DA198.jpeg
END:VEVENT
BEGIN:VEVENT
DTSTART;TZID=America/Sao_Paulo:20230324T190000
DTEND;TZID=America/Sao_Paulo:20230324T190000
DTSTAMP:20260423T200120
CREATED:20230323T134120Z
LAST-MODIFIED:20240615T052508Z
UID:1638-1679684400-1679684400@redstar.audio
SUMMARY:KissClub com Atrilha e Zion’s
DESCRIPTION:Entrada franca.
URL:https://redstar.audio/evento/kissclub-com-atrilha-e-zions/
LOCATION:São Paulo
CATEGORIES:RedStar
ATTACH;FMTTYPE=image/jpeg:https://redstar.audio/wp-content/uploads/2023/03/FD16215E-5395-4F98-BDC4-3ECA6B360D7B.jpeg
END:VEVENT
BEGIN:VEVENT
DTSTART;TZID=America/Sao_Paulo:20230325T170000
DTEND;TZID=America/Sao_Paulo:20230325T170000
DTSTAMP:20260423T200120
CREATED:20230321T212454Z
LAST-MODIFIED:20240615T052508Z
UID:1615-1679763600-1679763600@redstar.audio
SUMMARY:Daniel Iasbeck
DESCRIPTION:
URL:https://redstar.audio/evento/daniel-iasbeck/
LOCATION:São Paulo
CATEGORIES:RedStar
ATTACH;FMTTYPE=image/jpeg:https://redstar.audio/wp-content/uploads/2023/03/5CEB1999-96AA-4A50-932C-02A38025ACF9.jpeg
END:VEVENT
BEGIN:VEVENT
DTSTART;TZID=America/Sao_Paulo:20230325T170000
DTEND;TZID=America/Sao_Paulo:20230325T170000
DTSTAMP:20260423T200120
CREATED:20230323T135152Z
LAST-MODIFIED:20240615T052508Z
UID:1646-1679763600-1679763600@redstar.audio
SUMMARY:Daniel Iasbeck
DESCRIPTION:
URL:https://redstar.audio/evento/daniel-iasbeck-2/
LOCATION:São Paulo
CATEGORIES:RedStar
ATTACH;FMTTYPE=image/jpeg:https://redstar.audio/wp-content/uploads/2023/03/207B920B-6C3C-4709-9E0A-06C3AD3B993B.jpeg
END:VEVENT
BEGIN:VEVENT
DTSTART;TZID=America/Sao_Paulo:20230330T050000
DTEND;TZID=America/Sao_Paulo:20230330T140000
DTSTAMP:20260423T200120
CREATED:20230310T040552Z
LAST-MODIFIED:20240615T052508Z
UID:1584-1680152400-1680184800@redstar.audio
SUMMARY:C.D.R e Blackning
DESCRIPTION:
URL:https://redstar.audio/evento/c-d-r/
LOCATION:Red Star Studios\, Rua Teodoro Sampaio 512\, São Paulo\, São Paulo\, 05406-000\, Brasil
CATEGORIES:RedStar
ATTACH;FMTTYPE=image/jpeg:https://redstar.audio/wp-content/uploads/2023/03/WhatsApp-Image-2023-03-15-at-14.12.24.jpeg
ORGANIZER;CN="Jeferson Bem":MAILTO:email@email.com
END:VEVENT
BEGIN:VEVENT
DTSTART;TZID=America/Sao_Paulo:20230331T190000
DTEND;TZID=America/Sao_Paulo:20230331T190000
DTSTAMP:20260423T200120
CREATED:20230330T150224Z
LAST-MODIFIED:20240615T052508Z
UID:1658-1680289200-1680289200@redstar.audio
SUMMARY:KissClub com RF Force e Command 6
DESCRIPTION:
URL:https://redstar.audio/evento/kissclub-com-rf-force-e-command-6/
LOCATION:Red Star Studios\, Rua Teodoro Sampaio 512\, São Paulo\, São Paulo\, 05406-000\, Brasil
CATEGORIES:RedStar
ATTACH;FMTTYPE=image/jpeg:https://redstar.audio/wp-content/uploads/2023/03/5E8C58A5-C42E-4CC3-B489-38C6DFD1F3F6.jpeg
END:VEVENT
END:VCALENDAR