BEGIN:VCALENDAR
VERSION:2.0
PRODID:-//Red Star Studios - ECPv6.15.20//NONSGML v1.0//EN
CALSCALE:GREGORIAN
METHOD:PUBLISH
X-ORIGINAL-URL:https://redstar.audio
X-WR-CALDESC:Eventos para Red Star Studios
REFRESH-INTERVAL;VALUE=DURATION:PT1H
X-Robots-Tag:noindex
X-PUBLISHED-TTL:PT1H
BEGIN:VTIMEZONE
TZID:America/Sao_Paulo
BEGIN:STANDARD
TZOFFSETFROM:-0300
TZOFFSETTO:-0300
TZNAME:-03
DTSTART:20220101T000000
END:STANDARD
END:VTIMEZONE
BEGIN:VEVENT
DTSTART;TZID=America/Sao_Paulo:20230203T050000
DTEND;TZID=America/Sao_Paulo:20230203T203000
DTSTAMP:20260423T213046
CREATED:20230201T204924Z
LAST-MODIFIED:20240615T052509Z
UID:1547-1675400400-1675456200@redstar.audio
SUMMARY:Kiss Club 5º temporada
DESCRIPTION:ENTRADA FREE \nDia 3/2 \n`as 22h
URL:https://redstar.audio/evento/kiss-club-5o-temporada/
LOCATION:Red Star Studios\, Rua Teodoro Sampaio 512\, São Paulo\, São Paulo\, 05406-000\, Brasil
CATEGORIES:RedStar
ATTACH;FMTTYPE=image/jpeg:https://redstar.audio/wp-content/uploads/2023/02/WhatsApp-Image-2023-02-01-at-13.25.40.jpeg
ORGANIZER;CN="Jeferson Bem":MAILTO:email@email.com
END:VEVENT
BEGIN:VEVENT
DTSTART;TZID=America/Sao_Paulo:20230210T050000
DTEND;TZID=America/Sao_Paulo:20230210T190000
DTSTAMP:20260423T213046
CREATED:20230207T030929Z
LAST-MODIFIED:20240615T052509Z
UID:1552-1676005200-1676055600@redstar.audio
SUMMARY:Kiss Club
DESCRIPTION:22h\nEntrada grátis
URL:https://redstar.audio/evento/kiss-club/
LOCATION:Red Star Studios\, Rua Teodoro Sampaio 512\, São Paulo\, São Paulo\, 05406-000\, Brasil
CATEGORIES:RedStar
ATTACH;FMTTYPE=image/jpeg:https://redstar.audio/wp-content/uploads/2023/02/WhatsApp-Image-2023-02-06-at-20.20.48.jpeg
ORGANIZER;CN="Jeferson Bem":MAILTO:email@email.com
END:VEVENT
BEGIN:VEVENT
DTSTART;TZID=America/Sao_Paulo:20230212T150000
DTEND;TZID=America/Sao_Paulo:20230212T150000
DTSTAMP:20260423T213046
CREATED:20230103T181344Z
LAST-MODIFIED:20240615T052509Z
UID:1522-1676214000-1676214000@redstar.audio
SUMMARY:FASTHRASH 12/02/2023 - 18h
DESCRIPTION:RUA TEODORO SAMPAIO 512 – SALA A – JBL\nFASTHRASH 12/02/2023 – 18h\nR$ 40\,00
URL:https://redstar.audio/evento/fasthrash-12-02-2023-18h/
LOCATION:Red Star Studios\, Rua Teodoro Sampaio 512\, São Paulo\, São Paulo\, 05406-000\, Brasil
CATEGORIES:RedStar
ATTACH;FMTTYPE=image/jpeg:https://redstar.audio/wp-content/uploads/2023/01/WhatsApp-Image-2023-01-03-at-12.09.49.jpeg
END:VEVENT
BEGIN:VEVENT
DTSTART;TZID=America/Sao_Paulo:20230216T170000
DTEND;TZID=America/Sao_Paulo:20230216T170000
DTSTAMP:20260423T213046
CREATED:20230119T014801Z
LAST-MODIFIED:20240615T052509Z
UID:1529-1676566800-1676566800@redstar.audio
SUMMARY:Church of Confidence direto da Alemanha
DESCRIPTION:Church of Confidence direto da Alemanha em turnê pelo Brasil. \nAbertura: Maga Dude e Faca Preta. \nHorário: 20h.
URL:https://redstar.audio/evento/church-of-confidence-direto-da-alemanha/
LOCATION:Red Star Studios\, Rua Teodoro Sampaio 512\, São Paulo\, São Paulo\, 05406-000\, Brasil
CATEGORIES:RedStar
ATTACH;FMTTYPE=image/jpeg:https://redstar.audio/wp-content/uploads/2023/01/0BECCFEA-7A4F-4759-A0F4-283A0D02C27C-scaled.jpeg
ORGANIZER;CN="Jeferson Bem":MAILTO:email@email.com
END:VEVENT
END:VCALENDAR