BEGIN:VCALENDAR
VERSION:2.0
PRODID:-//Red Star Studios - ECPv6.15.20//NONSGML v1.0//EN
CALSCALE:GREGORIAN
METHOD:PUBLISH
X-WR-CALNAME:Red Star Studios
X-ORIGINAL-URL:https://redstar.audio
X-WR-CALDESC:Eventos para Red Star Studios
REFRESH-INTERVAL;VALUE=DURATION:PT1H
X-Robots-Tag:noindex
X-PUBLISHED-TTL:PT1H
BEGIN:VTIMEZONE
TZID:America/Sao_Paulo
BEGIN:STANDARD
TZOFFSETFROM:-0300
TZOFFSETTO:-0300
TZNAME:-03
DTSTART:20230101T000000
END:STANDARD
END:VTIMEZONE
BEGIN:VEVENT
DTSTART;TZID=America/Sao_Paulo:20240427T200000
DTEND;TZID=America/Sao_Paulo:20240427T233000
DTSTAMP:20260420T175930
CREATED:20240325T165315Z
LAST-MODIFIED:20240615T052410Z
UID:2699-1714248000-1714260600@redstar.audio
SUMMARY:RED STAR
DESCRIPTION:
URL:https://redstar.audio/evento/red-star-7/
LOCATION:Red Star Studios\, Rua Teodoro Sampaio 512\, São Paulo\, São Paulo\, 05406-000\, Brasil
CATEGORIES:RedStar
ATTACH;FMTTYPE=image/jpeg:https://redstar.audio/wp-content/uploads/2024/03/WhatsApp-Image-2024-03-25-at-09.41.39-1.jpeg
ORGANIZER;CN="Jeferson Bem":MAILTO:email@email.com
END:VEVENT
END:VCALENDAR