BEGIN:VCALENDAR
VERSION:2.0
PRODID:-//Red Star Studios - ECPv6.15.20//NONSGML v1.0//EN
CALSCALE:GREGORIAN
METHOD:PUBLISH
X-WR-CALNAME:Red Star Studios
X-ORIGINAL-URL:https://redstar.audio
X-WR-CALDESC:Eventos para Red Star Studios
REFRESH-INTERVAL;VALUE=DURATION:PT1H
X-Robots-Tag:noindex
X-PUBLISHED-TTL:PT1H
BEGIN:VTIMEZONE
TZID:America/Sao_Paulo
BEGIN:STANDARD
TZOFFSETFROM:-0300
TZOFFSETTO:-0300
TZNAME:-03
DTSTART:20250101T000000
END:STANDARD
END:VTIMEZONE
BEGIN:VEVENT
DTSTART;TZID=America/Sao_Paulo:20260314T210000
DTEND;TZID=America/Sao_Paulo:20260314T230000
DTSTAMP:20260420T223305
CREATED:20260209T115955Z
LAST-MODIFIED:20260209T115955Z
UID:10248-1773522000-1773529200@redstar.audio
SUMMARY:Master Dy - Lançamento do EP "Milf Queen"
DESCRIPTION:
URL:https://redstar.audio/evento/master-dy-lancamento-do-ep-milf-queen/
LOCATION:Red Star Studios\, Rua Teodoro Sampaio 462\, São Paulo\, SP\, 05406-000\, Brasil
CATEGORIES:RedStar
ATTACH;FMTTYPE=image/jpeg:https://redstar.audio/wp-content/uploads/2026/02/1-3.jpg
END:VEVENT
END:VCALENDAR