BEGIN:VCALENDAR
VERSION:2.0
PRODID:-//Red Star Studios - ECPv6.15.20//NONSGML v1.0//EN
CALSCALE:GREGORIAN
METHOD:PUBLISH
X-WR-CALNAME:Red Star Studios
X-ORIGINAL-URL:https://redstar.audio
X-WR-CALDESC:Eventos para Red Star Studios
REFRESH-INTERVAL;VALUE=DURATION:PT1H
X-Robots-Tag:noindex
X-PUBLISHED-TTL:PT1H
BEGIN:VTIMEZONE
TZID:America/Sao_Paulo
BEGIN:STANDARD
TZOFFSETFROM:-0300
TZOFFSETTO:-0300
TZNAME:-03
DTSTART:20220101T000000
END:STANDARD
END:VTIMEZONE
BEGIN:VEVENT
DTSTART;TZID=America/Sao_Paulo:20230120T180000
DTEND;TZID=America/Sao_Paulo:20230120T180000
DTSTAMP:20260424T020402
CREATED:20221212T190427Z
LAST-MODIFIED:20240615T052509Z
UID:1505-1674237600-1674237600@redstar.audio
SUMMARY:Inocentes\, Statues on Fire e Reverendo Frankenstein
DESCRIPTION:INGRESSOS\nhttps://www.sympla.com.br/inocentes-statues-on-fire-e-reverendo-frankenstein__1814256 \nDescrição do evento\n\nAbrindo a agenda de 2023\, Inocentes tocam no Red Star Studio (antigo Espaço Som) com Statues on Fire e Reverendo Frankenstein. \nNo dia do evento\, os ingressos custarão R$50.
URL:https://redstar.audio/evento/inocentes-statues-on-fire-e-reverendo-frankenstein/
LOCATION:Red Star Studios\, Rua Teodoro Sampaio 512\, São Paulo\, São Paulo\, 05406-000\, Brasil
ATTACH;FMTTYPE=image/jpeg:https://redstar.audio/wp-content/uploads/2022/12/WhatsApp-Image-2022-12-12-at-12.59.46.jpeg
ORGANIZER;CN="Jeferson Bem":MAILTO:email@email.com
END:VEVENT
END:VCALENDAR